BEGIN:VCALENDAR
VERSION:2.0
PRODID:-//ChamberMaster//Event Calendar 2.0//EN
METHOD:PUBLISH
X-PUBLISHED-TTL:P3D
REFRESH-INTERVAL:P3D
CALSCALE:GREGORIAN
BEGIN:VEVENT
DTSTART:20151212T010000Z
DTEND:20151212T040000Z
X-MICROSOFT-CDO-ALLDAYEVENT:FALSE
SUMMARY:Holiday Dinner & Entertainment at The Bigwood Event Center
DESCRIPTION:HOLIDAY DINNER & ENTERTAINMENT\n\nIf you missed out last year at the Dueling Pianos\, don't miss this year! \n\nIf you are looking for something new to try for your company's holiday celebration\, think about the Bigwood Event Center. $25 per ticket includes a three course meal\, Dueling Guitar entertainment\, tax\, tip\, and a cash bar. Plus\, if you sign your company up before the end of August\, you receive a FREE drink with every ticket purchased. Don't want to come with your co-workers? No problem! Make it a night out with the friends\, family\, or significant other. It is open to the public and they would love to have you!
X-ALT-DESC;FMTTYPE=text/html:<span class="fsl"><strong><span style="font-size:20px\;"><span style="color:#FF0000\;">HOLIDAY DINNER &amp\; ENTERTAINMENT</span></span><br />\nIf you missed out last year at the Dueling Pianos\, don&#39\;t miss this year!&nbsp\;</strong><br />\nIf you are looking for something new to try for your company&#39\;s holiday celebration\, think about&nbsp\;the Bigwood Event Center. $25 per ticket includes a three course meal\, Dueling Guitar entertainment\, tax\, tip\, and a cash bar. Plus\, if you sign your company up before the end of August\, you receive a FREE drink with every ticket purchased. Don&#39\;t want to come with your co-workers? No problem! Make it a night out with the friends\, family\, or significant other. It is open to the public and they would love to have you!</span>
LOCATION:Best Western & Bigwood Event Center 925 Western Ave\, Fergus Falls\,MN
UID:e.314.23987
SEQUENCE:3
DTSTAMP:20260426T012013Z
URL:https://business.fergusfalls.com/events/details/holiday-dinner-entertainment-at-the-bigwood-event-center-12-11-2015-23987
END:VEVENT

END:VCALENDAR
