BEGIN:VCALENDAR
VERSION:2.0
PRODID:-//ChamberMaster//Event Calendar 2.0//EN
METHOD:PUBLISH
X-PUBLISHED-TTL:P3D
REFRESH-INTERVAL:P3D
CALSCALE:GREGORIAN
BEGIN:VEVENT
DTSTART:20161203T160000Z
DTEND:20161203T210000Z
X-MICROSOFT-CDO-ALLDAYEVENT:FALSE
SUMMARY:Holiday Hoobie Whatty Craft Jubilation
DESCRIPTION:We're Having a Holiday Craft Jubilation!\n\nCome Shop & Meet Vendors that Help Keep Our Shop Unique & Fun!!!\n\n\n\n* Gift Yourself!!\n\n* Get Your Holiday Shopping Done!!
X-ALT-DESC;FMTTYPE=text/html:<span class="_4n-j fsl">We&#39\;re Having a Holiday Craft Jubilation!<br />\nCome Shop &amp\; Meet Vendors that Help Keep Our Shop Unique &amp\; Fun!!!<br />\n<br />\n* Gift Yourself!!<br />\n* Get Your Holiday Shopping Done!!</span>
LOCATION:Show Map V.F.W 420 E Washington Ave\, Fergus Falls
UID:e.314.36002
SEQUENCE:3
DTSTAMP:20260425T022620Z
URL:https://business.fergusfalls.com/events/details/holiday-hoobie-whatty-craft-jubilation-36002
END:VEVENT

END:VCALENDAR
