BEGIN:VCALENDAR
VERSION:2.0
PRODID:-//ChamberMaster//Event Calendar 2.0//EN
METHOD:PUBLISH
X-PUBLISHED-TTL:P3D
REFRESH-INTERVAL:P3D
CALSCALE:GREGORIAN
BEGIN:VEVENT
DTSTART:20181221T160000Z
DTEND:20190101T180000Z
X-MICROSOFT-CDO-ALLDAYEVENT:FALSE
SUMMARY:Holiday Open Bowling Hours
DESCRIPTION:Holiday Open Bowling Hours\n\nFri.\, Dec. 21   10am-11pm\n\nSat.\, Dec. 22   Noon-Midnight\n\nSun.\, Dec. 23   Noon-10pm\n\nChristmas Eve   Closed\n\nChristmas Day   3pm-10pm\n\n(Lunch Counter Closed Christmas Day!)\n\nFri.\, Dec. 28   10am-11pm\n\nSat.\, Dec. 29   Noon-Midnight\n\nSun.\, Dec. 30   Noon-5:30pm\n\nNew Year's Eve   Noon-Midnight\n\nNew Year's Day   2pm-10pm\n\n(Call for additional times for Open Bowling over the Holidays!)
X-ALT-DESC;FMTTYPE=text/html:<p align="LEFT"><b><i><font face="Times-BoldItalic" size="4"><font face="Times-BoldItalic" size="4">Holiday Open Bowling Hours</font></font></i></b></p>\n\n<p align="LEFT"><b><font face="Arial-BoldMT" size="2"><font face="Arial-BoldMT" size="2">Fri.\, Dec. 21 &bull\; 10am-11pm</font></font></b></p>\n\n<p align="LEFT"><b><font face="Arial-BoldMT" size="2"><font face="Arial-BoldMT" size="2">Sat.\, Dec. 22 &bull\; Noon-Midnight</font></font></b></p>\n\n<p align="LEFT"><b><font face="Arial-BoldMT" size="2"><font face="Arial-BoldMT" size="2">Sun.\, Dec. 23 &bull\; Noon-10pm</font></font></b></p>\n\n<p align="LEFT"><b><font face="Arial-BoldMT" size="2"><font face="Arial-BoldMT" size="2">Christmas Eve &bull\; Closed</font></font></b></p>\n\n<p align="LEFT"><b><font face="Arial-BoldMT" size="2"><font face="Arial-BoldMT" size="2">Christmas Day &bull\; 3pm-10pm</font></font></b></p>\n\n<p align="LEFT"><i><font face="Arial-ItalicMT" size="1"><font face="Arial-ItalicMT" size="1">(Lunch Counter Closed Christmas Day!)</font></font></i></p>\n\n<p align="LEFT"><b><font face="Arial-BoldMT" size="2"><font face="Arial-BoldMT" size="2">Fri.\, Dec. 28 &bull\; 10am-11pm</font></font></b></p>\n\n<p align="LEFT"><b><font face="Arial-BoldMT" size="2"><font face="Arial-BoldMT" size="2">Sat.\, Dec. 29 &bull\; Noon-Midnight</font></font></b></p>\n\n<p align="LEFT"><b><font face="Arial-BoldMT" size="2"><font face="Arial-BoldMT" size="2">Sun.\, Dec. 30 &bull\; Noon-5:30pm</font></font></b></p>\n\n<p align="LEFT"><b><font face="Arial-BoldMT" size="2"><font face="Arial-BoldMT" size="2">New Year&rsquo\;s Eve &bull\; Noon-Midnight</font></font></b></p>\n\n<p align="LEFT"><b><font face="Arial-BoldMT" size="2"><font face="Arial-BoldMT" size="2">New Year&rsquo\;s Day &bull\; 2pm-10pm</font></font></b></p>\n\n<p><i><font face="Arial-ItalicMT" size="1"><font face="Arial-ItalicMT" size="1">(Call for additional times for Open Bowling over the Holidays!)</font></font></i></p>\n
LOCATION:
UID:e.314.52181
SEQUENCE:3
DTSTAMP:20260423T105303Z
URL:https://business.fergusfalls.com/events/details/holiday-open-bowling-hours-52181
END:VEVENT

END:VCALENDAR
