BEGIN:VCALENDAR
VERSION:2.0
PRODID:-//ChamberMaster//Event Calendar 2.0//EN
METHOD:PUBLISH
X-PUBLISHED-TTL:P3D
REFRESH-INTERVAL:P3D
CALSCALE:GREGORIAN
BEGIN:VEVENT
DTSTART:20191220T170000Z
DTEND:20191220T230000Z
X-MICROSOFT-CDO-ALLDAYEVENT:FALSE
SUMMARY:HOLIDAY OPEN HOUSE - Bank of the West
DESCRIPTION:Please join us for Holiday Treats and Sound of the Season from the students of Aimee Nordlund!
X-ALT-DESC;FMTTYPE=text/html:Please join us for Holiday Treats and Sound of the Season from the students of Aimee Nordlund!&nbsp\;
LOCATION:Bank of the West 120 N Mill St. Fergus Falls MN 56537
UID:e.314.56008
SEQUENCE:3
DTSTAMP:20260422T171826Z
URL:https://business.fergusfalls.com/events/details/holiday-open-house-56008
END:VEVENT

END:VCALENDAR
