BEGIN:VCALENDAR
VERSION:2.0
PRODID:-//ChamberMaster//Event Calendar 2.0//EN
METHOD:PUBLISH
X-PUBLISHED-TTL:P3D
REFRESH-INTERVAL:P3D
CALSCALE:GREGORIAN
BEGIN:VEVENT
DTSTART:20161205T230000Z
DTEND:20161206T020000Z
X-MICROSOFT-CDO-ALLDAYEVENT:FALSE
SUMMARY:Holiday Open House at Attitudes for Hair Inc.
DESCRIPTION:Join Us For\n\n-Hors D'oeuvres\n\n-Door Prizes\n\n-Holiday Gift Ideas Including Aveda Gift Sets\n\n-Learn How To Have Glamourous Hair For The Holidays\n\n-Showcasing The Newest Trends From LulaRoe Clothing\n\n-Grand Prize Givaway
X-ALT-DESC;FMTTYPE=text/html:<span class="_4n-j fsl">Join Us For<br />\n-Hors D&#39\;oeuvres<br />\n-Door Prizes<br />\n-Holiday Gift Ideas Including Aveda Gift Sets<br />\n-Learn How To Have Glamourous Hair For The Holidays<br />\n-Showcasing The Newest Trends From LulaRoe Clothing<br />\n-Grand Prize Givaway</span>
LOCATION:Attitudes for Hair Inc 2007 Tower View Rd
UID:e.314.36576
SEQUENCE:3
DTSTAMP:20260425T022834Z
URL:https://business.fergusfalls.com/events/details/holiday-open-house-at-attitudes-for-hair-inc-36576
END:VEVENT

END:VCALENDAR
