BEGIN:VCALENDAR
VERSION:2.0
PRODID:-//ChamberMaster//Event Calendar 2.0//EN
METHOD:PUBLISH
X-PUBLISHED-TTL:P3D
REFRESH-INTERVAL:P3D
CALSCALE:GREGORIAN
BEGIN:VEVENT
DTSTART:20151210T150000Z
DTEND:20151210T230000Z
X-MICROSOFT-CDO-ALLDAYEVENT:FALSE
SUMMARY:Holiday Open House at Spangler Insurance & Real Estate
DESCRIPTION:We invite you to our Holiday Open House on Tuesday December 8th through Thrursday December 10th. In addition\, we are also celebrating Ron's 40 years in the Insurance Industry. Come help us celebrate!
X-ALT-DESC;FMTTYPE=text/html:We invite you to our Holiday Open House on&nbsp\;Tuesday December 8th through Thrursday December 10th. In addition\, we are also celebrating Ron&#39\;s 40 years in the Insurance Industry. Come help us celebrate!
LOCATION:215 West Washington
UID:e.314.27348
SEQUENCE:3
DTSTAMP:20260425T234141Z
URL:https://business.fergusfalls.com/events/details/holiday-open-house-at-spangler-insurance-real-estate-12-10-2015-27348
END:VEVENT

END:VCALENDAR
