BEGIN:VCALENDAR
VERSION:2.0
PRODID:-//ChamberMaster//Event Calendar 2.0//EN
METHOD:PUBLISH
X-PUBLISHED-TTL:P3D
REFRESH-INTERVAL:P3D
CALSCALE:GREGORIAN
BEGIN:VEVENT
DTSTART;VALUE=DATE:20151204
DTEND;VALUE=DATE:20151207
TRANSP:TRANSPARENT
X-MICROSOFT-CDO-ALLDAYEVENT:TRUE
SUMMARY:Holiday Open House at THE BRIC
DESCRIPTION:Holiday Open House!\n\nThis Weekend -  Fri to Sun\n\nWe're excited to announce our annual (well okay it's our first) Holiday Open House--just around the corner! Celebrate with us! \n\n\n\nWe've got coffee and goodies not to mention great specials in the store.\n\n\n\nShop with us Friday through Sunday and...\n\nBuy 1 Top\, Get 2nd One 1/2 Price!   \n\nBut we've got more.\n\n\n	Our Half-Off Hoodies is still in effect.\n	All LUR and Chalet brand clothing is 30% Off.\n	All clothing items priced $100 or more are 30% Off.\n\n\nWish Lists!\n\nNot sure where to start or what to buy first? Fill out a Wish List with us!\n\nMake it easier for others to get you exactly what you want for Christmas.\n\n\n\nTHE BRIC Store Hours:\n\nOpen M-F 10-7\, Sat 9-5 Sun 12-4\n\n\n\n215 W Lincoln Ave\n\nFergus Falls MN 56537\n\n218-998-2225
X-ALT-DESC;FMTTYPE=text/html:<h1><strong>Holiday Open House!<br />\nThis Weekend - &nbsp\;Fri to Sun</strong></h1>\n\n<p class="x_MsoNormal" style="line-height: 150%\; margin-right: 0in\; margin-bottom: 7.5pt\; margin-left: 0in\;"><span style="color: rgb(20\, 24\, 35)\; font-family: &quot\;Helvetica&quot\;\,sans-serif\;">We&#39\;re excited to announce&nbsp\;our annual (well okay it&#39\;s our first) Holiday Open House--just around the corner! Celebrate with us!&nbsp\;</span><br />\n<br />\n<span style="color: rgb(32\, 32\, 32)\; font-family: &quot\;Helvetica&quot\;\,sans-serif\;">We&#39\;ve got coffee and goodies not to mention great specials in the store.<br />\n<br />\nShop with us Friday through Sunday and...</span></p>\n\n<p class="x_MsoNormal" style="line-height: 150%\; margin-right: 0in\; margin-bottom: 7.5pt\; margin-left: 0in\;"><strong><span style="color: rgb(20\, 24\, 35)\; line-height: 150%\; font-family: &quot\;Helvetica&quot\;\,sans-serif\; font-size: 15pt\;">Buy 1 Top\, Get&nbsp\;2nd One 1/2 Price!&nbsp\;</span></strong><strong><span style="color: rgb(32\, 32\, 32)\; line-height: 150%\; font-family: &quot\;Helvetica&quot\;\,sans-serif\; font-size: 18pt\;">&nbsp\;</span></strong><strong><span style="color: rgb(32\, 32\, 32)\; font-family: &quot\;Helvetica&quot\;\,sans-serif\;">&nbsp\;</span></strong><br />\n<span style="color: rgb(32\, 32\, 32)\; font-family: &quot\;Helvetica&quot\;\,sans-serif\;">But we&#39\;ve got more.</span></p>\n\n<ul type="disc">\n	<li class="x_MsoNormal" style="color: rgb(32\, 32\, 32)\; line-height: 150%\;"><span style="font-family: &quot\;Helvetica&quot\;\,sans-serif\;">Our Half-Off Hoodies is still in effect.</span></li>\n	<li class="x_MsoNormal" style="color: rgb(32\, 32\, 32)\; line-height: 150%\;"><span style="font-family: &quot\;Helvetica&quot\;\,sans-serif\;">All LUR and Chalet brand clothing is 30% Off.</span></li>\n	<li class="x_MsoNormal" style="color: rgb(32\, 32\, 32)\; line-height: 150%\;"><span style="font-family: &quot\;Helvetica&quot\;\,sans-serif\;">All clothing items priced&nbsp\;$100 or more are 30% Off.</span></li>\n</ul>\n\n<p class="x_MsoNormal" style="line-height: 150%\; margin-right: 0in\; margin-bottom: 7.5pt\; margin-left: 0in\;"><strong><span style="color: rgb(20\, 24\, 35)\; line-height: 150%\; font-family: &quot\;Helvetica&quot\;\,sans-serif\; font-size: 15pt\;">Wish Lists!</span></strong><br />\n<span style="color: rgb(32\, 32\, 32)\; font-family: &quot\;Helvetica&quot\;\,sans-serif\;">Not sure where to start or what to buy first? Fill out a Wish List with us!<br />\nMake it easier for others to get you exactly what you want for Christmas.</span><br />\n<br />\n<strong><span style="color: teal\; font-family: &quot\;Helvetica&quot\;\,sans-serif\;">THE BRIC Store Hours:</span></strong><br />\n<b><span style="color: teal\; font-family: &quot\;Helvetica&quot\;\,sans-serif\;"><strong><span style="font-family: &quot\;Helvetica&quot\;\,sans-serif\;">Open M-F 10-7\, Sat 9-5 Sun&nbsp\;12-4</span></strong><br />\n<br />\n<strong><span style="font-family: &quot\;Helvetica&quot\;\,sans-serif\;">215 W Lincoln Ave</span></strong><br />\n<strong><span style="font-family: &quot\;Helvetica&quot\;\,sans-serif\;">Fergus Falls MN 56537</span></strong><br />\n<strong><span style="font-family: &quot\;Helvetica&quot\;\,sans-serif\;">218-998-2225</span></strong></span></b></p>\n
LOCATION:THE BRIC Store Hours: Open M-F 10-7\, Sat 9-5 Sun 12-4 215 W Lincoln Ave Fergus Falls MN 56537 218-998-2225
UID:e.314.27801
SEQUENCE:3
DTSTAMP:20260426T011552Z
URL:https://business.fergusfalls.com/events/details/holiday-open-house-at-the-bric-12-04-2015-27801
END:VEVENT

END:VCALENDAR
