BEGIN:VCALENDAR
VERSION:2.0
PRODID:-//ChamberMaster//Event Calendar 2.0//EN
METHOD:PUBLISH
X-PUBLISHED-TTL:P3D
REFRESH-INTERVAL:P3D
CALSCALE:GREGORIAN
BEGIN:VEVENT
DTSTART:20151218T180000Z
DTEND:20151218T230000Z
X-MICROSOFT-CDO-ALLDAYEVENT:FALSE
SUMMARY:Holiday Open House - Bank of the West
DESCRIPTION:Holiday Open House - Bank of the West\n\n\n\nFeaturing piano students and The Watch Homeschool choir of Aimee Nordlund.  Holiday goodies will be served!\n\n\n\nFriday December 18th \n\n12Noon-5:00pm\n\n\n\n\n\n\n\nCome take a picture with Santa at 2:30!
X-ALT-DESC;FMTTYPE=text/html:<span style="color: rgb(255\, 0\, 0)\;"><strong>Holiday Open House</strong></span> - <span style="color: rgb(0\, 0\, 255)\;"><strong><em>Bank of the West</em></strong></span><br />\n<br />\nFeaturing piano students and The Watch Homeschool choir of Aimee Nordlund.&nbsp\; Holiday goodies will be served!<br />\n<br />\n<strong><span style="color: rgb(255\, 0\, 0)\;">Friday December 18th </span></strong><br />\n<strong>12Noon-5:00pm</strong><br />\n<br />\n<br />\n<br />\nCome take a picture with Santa&nbsp\;at 2:30!<br />\n<br />\n&nbsp\;
LOCATION:Fergus Falls Branch 120 N. Mill Street 218-739-0242
UID:e.314.27800
SEQUENCE:3
DTSTAMP:20260425T234304Z
URL:https://business.fergusfalls.com/events/details/holiday-open-house-bank-of-the-west-12-18-2015-27800
END:VEVENT

END:VCALENDAR
