BEGIN:VCALENDAR
VERSION:2.0
PRODID:-//ChamberMaster//Event Calendar 2.0//EN
METHOD:PUBLISH
X-PUBLISHED-TTL:P3D
REFRESH-INTERVAL:P3D
CALSCALE:GREGORIAN
BEGIN:VEVENT
DTSTART:20181221T170000Z
DTEND:20181221T230000Z
X-MICROSOFT-CDO-ALLDAYEVENT:FALSE
SUMMARY:Holiday Open House - Bank of the West
DESCRIPTION:Please join us for Holiday Treats and Sounds of the Season from the students of Aimee Nordlund.
X-ALT-DESC;FMTTYPE=text/html:Please join us for <strong>Holiday Treats</strong> and <strong>Sounds of the Season</strong> from the students of Aimee Nordlund.&nbsp\;
LOCATION:Bank of the West Fergus Falls\, 120 N Mill St. Fergus Falls MN 56537
UID:e.314.52054
SEQUENCE:3
DTSTAMP:20260423T122813Z
URL:https://business.fergusfalls.com/events/details/holiday-open-house-bank-of-the-west-12-21-2018-52054
END:VEVENT

END:VCALENDAR
