BEGIN:VCALENDAR
VERSION:2.0
PRODID:-//ChamberMaster//Event Calendar 2.0//EN
METHOD:PUBLISH
X-PUBLISHED-TTL:P3D
REFRESH-INTERVAL:P3D
CALSCALE:GREGORIAN
BEGIN:VEVENT
DTSTART:20161223T160000Z
DTEND:20161223T230000Z
X-MICROSOFT-CDO-ALLDAYEVENT:FALSE
SUMMARY:Holiday Open House - Bank of the West - Fergus Falls
DESCRIPTION:Come enjoy Sounds of the Season presented by Aimee Nordlund and her piano students. December 23\, 2016 | 10 am   5 pm Fergus Falls Branch | 120 N Mill Street | Fergus Falls\, MN 56537 Cider and holiday goodies to be served! Member FDIC. Equal Housing Lender.   2016 Bank of the West
X-ALT-DESC;FMTTYPE=text/html:Come enjoy Sounds of the Season presented by Aimee Nordlund and her piano students. December 23\, 2016 | 10 am &ndash\; 5 pm Fergus Falls Branch | 120 N Mill Street | Fergus Falls\, MN 56537 Cider and holiday goodies to be served! Member FDIC. Equal Housing Lender. &copy\; 2016 Bank of the West
LOCATION:120 N Mill Street Fergus Falls Mn 56537
UID:e.314.37241
SEQUENCE:3
DTSTAMP:20260425T023009Z
URL:https://business.fergusfalls.com/events/details/holiday-open-house-bank-of-the-west-fergus-falls-37241
END:VEVENT

END:VCALENDAR
