BEGIN:VCALENDAR
VERSION:2.0
PRODID:-//ChamberMaster//Event Calendar 2.0//EN
METHOD:PUBLISH
X-PUBLISHED-TTL:P3D
REFRESH-INTERVAL:P3D
CALSCALE:GREGORIAN
BEGIN:VEVENT
DTSTART:20151216T170000Z
DTEND:20151216T210000Z
X-MICROSOFT-CDO-ALLDAYEVENT:FALSE
SUMMARY:Holiday Open House - Brian Vatnsdal
DESCRIPTION:Celebrate the season at our holiday open house and let us express our gratitude for the privilege of working with great people like you. Please join us as we say "thank you" to our clients\, friends and community.\n\nCookies\, punch and holiday treats will be provided.. This year we are sponsoring the Fergus Falls Community Food Shelf. We will be collecting non-perishable items at our branch December 1-16. (Cash checks and gift cards cannot be accepted).\n\nHosted by: Edward Jones -- Brian Vatnsdal & Sandy Richards
X-ALT-DESC;FMTTYPE=text/html:Celebrate the season at our holiday open house and let us express our gratitude for the privilege of working with great people like you. Please join us as we say &quot\;thank you&quot\; to our clients\, friends and community.<br />\nCookies\, punch and holiday treats will be provided.. This year we are sponsoring the Fergus Falls Community Food Shelf. We will be collecting non-perishable items at our branch December 1-16. (Cash checks and gift cards cannot be accepted).<br />\nHosted by: Edward Jones -- Brian Vatnsdal &amp\; Sandy Richards
LOCATION:Edward Jones branch 801 S. Pebble Lake Road\, Suite B Fergus Falls\, MN
UID:e.314.27963
SEQUENCE:3
DTSTAMP:20260425T233020Z
URL:https://business.fergusfalls.com/events/details/holiday-open-house-brian-vatnsdal-12-16-2015-27963
END:VEVENT

END:VCALENDAR
