BEGIN:VCALENDAR
VERSION:2.0
PRODID:-//ChamberMaster//Event Calendar 2.0//EN
METHOD:PUBLISH
X-PUBLISHED-TTL:P3D
REFRESH-INTERVAL:P3D
CALSCALE:GREGORIAN
BEGIN:VEVENT
DTSTART;VALUE=DATE:20191207
DTEND;VALUE=DATE:20191208
TRANSP:TRANSPARENT
X-MICROSOFT-CDO-ALLDAYEVENT:TRUE
SUMMARY:HOLIDAY OPEN HOUSE @ The Market
DESCRIPTION:HOLIDAY OPEN HOUSE\n\nSat\, Dec 7th\n\n\n*Come take a picture with Santa 12-2.\n\n*Our favorite samples to taste.\n\n*Drawings every hour!\n\n*Free gift wrapping!
X-ALT-DESC;FMTTYPE=text/html:<div><strong><span style="font-size:20px">HOLIDAY OPEN HOUSE</span></strong></div>\n\n<div><strong>Sat\, Dec 7th</strong></div>\n\n<div style="text-align:center">\n<div style="text-align:left">*Come take a picture with Santa 12-2.</div>\n\n<div style="text-align:left">*Our favorite samples to taste.</div>\n\n<div style="text-align:left">*Drawings every hour!</div>\n\n<div style="text-align:left">*Free gift wrapping!</div>\n\n<div style="text-align:left">&nbsp\;</div>\n</div>\n\n<div>&nbsp\;</div>\n\n<div style="text-align:center">&nbsp\;</div>\n
LOCATION:The Market
UID:e.314.55969
SEQUENCE:3
DTSTAMP:20260422T172337Z
URL:https://business.fergusfalls.com/events/details/holiday-open-house-the-market-55969
END:VEVENT

END:VCALENDAR
