BEGIN:VCALENDAR
VERSION:2.0
PRODID:-//ChamberMaster//Event Calendar 2.0//EN
METHOD:PUBLISH
X-PUBLISHED-TTL:P3D
REFRESH-INTERVAL:P3D
CALSCALE:GREGORIAN
BEGIN:VEVENT
DTSTART:20181206T143000Z
DTEND:20181206T223000Z
X-MICROSOFT-CDO-ALLDAYEVENT:FALSE
SUMMARY:Holiday Shop\, Drop 'n Win
DESCRIPTION:Holiday Shop\, Drop 'n Win\n\nChance to win $500 Fergus Bucks\n\nShop Local for the Holidays & Win $500 Fergus Bucks\n\nShop in Fergus Falls businesses for a chance to win more money to spend locally. \n\nDrop by the Chamber office and show us your receipt.  Win   register for a chance to win $500 in Fergus Bucks.\n\n \n\nReceive an entry for each purchase made in Fergus Falls plus receive BONUS entries if the merchant is a Chamber member AND receive BONUS entries for purchases made on Small Business Saturday (November 24) and Over the River Festival Day Saturday\, December 1.\n\n \n\nDrawings for Fergus Bucks: \n\nDec. 3 $150\n\nDec. 10 $ 150\n\nDec. 17 $ 200\n\n \n\nDetails: No purchase necessary\, one non-purchase entry per person per day. Shopping Dates: Wednesday\, November 21   December 17\, 2018.\n\n \n\nBonus Entries \n\nNov. 24 & Dec. 1\n\nChamber Members
X-ALT-DESC;FMTTYPE=text/html:<strong><span style="font-size:18.0pt\;">Holiday Shop\, Drop &lsquo\;n Win</span></strong><br />\n<span style="font-size:18.0pt\;">Chance to win $500 Fergus Bucks</span><br />\n<strong><span style="font-size:12.0pt\;">Shop Local for the Holidays &amp\; Win <sup>$</sup>500 Fergus Bucks</span></strong><br />\n<strong><span style="font-size:12.0pt\;">Shop</span></strong><span style="font-size:12.0pt\;"> in Fergus Falls businesses for a chance to win more money to spend locally. </span><br />\n<strong><span style="font-size:12.0pt\;">Drop</span></strong><span style="font-size:12.0pt\;"> by the Chamber office and show us your receipt.&nbsp\; <strong>Win</strong> &ndash\; register for a chance to win $500 in Fergus Bucks.</span><br />\n&nbsp\;<br />\n<span style="font-size:12.0pt\;">Receive an entry for each purchase made in Fergus Falls plus receive BONUS entries if the merchant is a Chamber member AND receive BONUS entries for purchases made on Small Business Saturday (November 24) and Over the River Festival Day Saturday\, December 1.</span><br />\n&nbsp\;<br />\n<strong><u><span style="font-size:14.0pt\;">Drawings for Fergus Bucks: </span></u></strong><br />\n<strong><span style="font-size:14.0pt\;">Dec. 3 <sup>$</sup>150</span></strong><br />\n<strong><span style="font-size:14.0pt\;">Dec. 10 <sup>$ </sup>150</span></strong><br />\n<strong><span style="font-size:14.0pt\;">Dec. 17 <sup>$ </sup>200</span></strong><br />\n&nbsp\;<br />\n<span style="font-size:12.0pt\;">Details: No purchase necessary\, one non-purchase entry per person per day. Shopping Dates: Wednesday\, November 21 &ndash\; December 17\, 2018.</span><br />\n&nbsp\;<br />\n<strong><u><span style="font-size:12.0pt\;">Bonus Entries </span></u></strong><br />\n<strong><span style="font-size:12.0pt\;">Nov. 24 &amp\; Dec. 1</span></strong><br />\n<strong><span style="font-size:12.0pt\;">Chamber Members</span></strong>
LOCATION:SHOP at all Fergus Falls area Businesses -- retailers\, restaurants\, services Enter at the Fergus Falls Area Chamber of Commerce 202 S. Court St. Fergus Falls\, MN click here for Chamber Member Directory (bonus entries for shopping with Chamber members)
UID:e.314.52081
SEQUENCE:3
DTSTAMP:20260423T122352Z
URL:https://business.fergusfalls.com/events/details/holiday-shop-drop-n-win-12-06-2018-52081
END:VEVENT

END:VCALENDAR
