BEGIN:VCALENDAR
VERSION:2.0
PRODID:-//ChamberMaster//Event Calendar 2.0//EN
METHOD:PUBLISH
X-PUBLISHED-TTL:P3D
REFRESH-INTERVAL:P3D
CALSCALE:GREGORIAN
BEGIN:VEVENT
DTSTART:20151114T150000Z
DTEND:20151114T200000Z
X-MICROSOFT-CDO-ALLDAYEVENT:FALSE
SUMMARY:Holiday Vendor Blender
DESCRIPTION:Come out and join us before the Holidays at our 2015 Holiday Vendor Blender! We are hosting a HUGE assortment of home based businesses for your shopping pleasure. From makeup and books to cleaning and cooks there will be something here for everyone! Admission is free and you won't leave empty-handed. Come hungry though\, because we will have concessions available throughout the day!
X-ALT-DESC;FMTTYPE=text/html:Come out and join us before the Holidays at our 2015 Holiday Vendor Blender! We are hosting a HUGE assortment of home based businesses for your shopping pleasure. From makeup and books to cleaning and cooks there will be something here for everyone! Admission is free and you won&#39\;t leave empty-handed. Come hungry though\, because we will have concessions available throughout the day!
LOCATION:Bigwood Event Center
UID:e.314.24025
SEQUENCE:3
DTSTAMP:20260426T025401Z
URL:https://business.fergusfalls.com/events/details/holiday-vendor-blender-11-14-2015-24025
END:VEVENT

END:VCALENDAR
