BEGIN:VCALENDAR
VERSION:2.0
PRODID:-//ChamberMaster//Event Calendar 2.0//EN
METHOD:PUBLISH
X-PUBLISHED-TTL:P3D
REFRESH-INTERVAL:P3D
CALSCALE:GREGORIAN
BEGIN:VEVENT
DTSTART:20161105T140000Z
DTEND:20161105T190000Z
X-MICROSOFT-CDO-ALLDAYEVENT:FALSE
SUMMARY:Holiday Vendor Blender & Craft Show
DESCRIPTION:Holiday Vendor Blender & Craft Show\n\nCome out and join us before the Holidays at our 2016 Holiday Craft Show & Vendor Blender! We are hosting a HUGE assortment of home based businesses and crafters for your shopping pleasure. From makeup and books to cleaning and cooks there will be something here for everyone! Admission is free and you won't leave empty-handed. Check us out on November 5th\, where we have a ton of vendors and crafters already signed up and there's always room for more! Come hungry though\, because we will have concessions available throughout the day!
X-ALT-DESC;FMTTYPE=text/html:<div><span class="_5v1l"><a data-testid="event-permalink-event-name" href="https://www.facebook.com/events/175463806211166/?ref=1&amp\;action_history=%5B%7B%22surface%22%3A%22permalink%22%2C%22mechanism%22%3A%22surface%22%2C%22extra_data%22%3A%5B%5D%7D%5D"><font color="#0066cc">Holiday Vendor Blender &amp\; Craft Show</font></a></span><br />\n<span class="_4n-j fsl">Come out and join us before the Holidays at our 2016 Holiday Craft Show &amp\; Vendor Blender! We are hosting a HUGE assortment of home based businesses and crafters for your shopping pleasure. From makeup and books to cleaning and cooks there will be something here for everyone! Admission is free and you won&#39\;t leave empty-handed. Check us out on November 5th\, where we have a ton of vendors and crafters already signed up and there&#39\;s always room for more! Come hungry though\, because we will have concessions available throughout the day!</span></div>\n
LOCATION:Best Western & Bigwood Event Center 925 Western Ave\, Fergus Falls\, Minnesota 56537
UID:e.314.35997
SEQUENCE:3
DTSTAMP:20260425T040641Z
URL:https://business.fergusfalls.com/events/details/holiday-vendor-blender-craft-show-35997
END:VEVENT

END:VCALENDAR
