BEGIN:VCALENDAR
VERSION:2.0
PRODID:-//ChamberMaster//Event Calendar 2.0//EN
METHOD:PUBLISH
X-PUBLISHED-TTL:P3D
REFRESH-INTERVAL:P3D
CALSCALE:GREGORIAN
BEGIN:VEVENT
DTSTART:20190928T150000Z
DTEND:20190928T220000Z
X-MICROSOFT-CDO-ALLDAYEVENT:FALSE
SUMMARY:Holistic Healing & Psychic Expo
DESCRIPTION:Join us for a day of enlightenment\, learning and fun. Saturday September 28\, 2019. VFW 420 E Washington Ave Fergus Falls. Doors open 10 am-5 pm $5 admission. You'll find psychic readers\, energy healers\, natural skin care products\, crystals and stones\, jewelry and more. There's also a Special One hour Gallery Reading with The Whimsical Woman\, Natosha & Shellie at 4pm $40 General admission or VIP admission for $60. Includes expo entry\, front row seating at the gallery\, a psychic or mediumship reading and a special made for you painting to take home! More info found at www.facebook.com/heartandsoulwellnessevents
X-ALT-DESC;FMTTYPE=text/html:Join us for a day of enlightenment\, learning and fun. Saturday September 28\, 2019. VFW 420 E Washington Ave Fergus Falls. Doors open 10 am-5 pm $5 admission. You&#39\;ll find psychic readers\, energy healers\, natural skin care products\, crystals and stones\, jewelry and more. There&#39\;s also a Special One hour Gallery Reading with The Whimsical Woman\, Natosha &amp\; Shellie at 4pm $40 General admission or VIP admission for $60. Includes expo entry\, front row seating at the gallery\, a psychic or mediumship reading and a special made for you painting to take home! More info found at www.facebook.com/heartandsoulwellnessevents
LOCATION:VFW 420 E Washington Ave Fergus Falls
UID:e.314.54069
SEQUENCE:3
DTSTAMP:20260422T222512Z
URL:https://business.fergusfalls.com/events/details/holistic-healing-psychic-expo-54069
END:VEVENT

END:VCALENDAR
