BEGIN:VCALENDAR
VERSION:2.0
PRODID:-//ChamberMaster//Event Calendar 2.0//EN
METHOD:PUBLISH
X-PUBLISHED-TTL:P3D
REFRESH-INTERVAL:P3D
CALSCALE:GREGORIAN
BEGIN:VEVENT
DTSTART:20190413T140000Z
DTEND:20190413T190000Z
X-MICROSOFT-CDO-ALLDAYEVENT:FALSE
SUMMARY:Home Improvement Day @Home Depot
DESCRIPTION:Spring Has Sprung!\n\nJoin us for Home Improvement Day at Home Depot.\n\n	Demonstrations & New Ideas in Every Deparment\n	Creative DIY Projects\n	Behr Paint Seminar 11am -- Learn from the Pros! New products & demos.\n	FREE Hot Dogs 11am-1pm
X-ALT-DESC;FMTTYPE=text/html:Spring Has Sprung!<br />\nJoin us for Home Improvement Day at Home Depot.\n<ul>\n	<li>Demonstrations &amp\; New Ideas in Every Deparment</li>\n	<li>Creative DIY Projects</li>\n	<li>Behr Paint Seminar 11am -- Learn from the Pros! New products &amp\; demos.</li>\n	<li>FREE Hot Dogs 11am-1pm</li>\n</ul>\n
LOCATION:Home Depot 2025 W. Lincoln Ave. Fergus Falls\, MN
UID:e.314.53059
SEQUENCE:3
DTSTAMP:20260423T063044Z
URL:https://business.fergusfalls.com/events/details/home-improvement-day-home-depot-53059
END:VEVENT

END:VCALENDAR
