BEGIN:VCALENDAR
VERSION:2.0
PRODID:-//ChamberMaster//Event Calendar 2.0//EN
METHOD:PUBLISH
X-PUBLISHED-TTL:P3D
REFRESH-INTERVAL:P3D
CALSCALE:GREGORIAN
BEGIN:VEVENT
DTSTART:20180511T140000Z
DTEND:20180511T170000Z
X-MICROSOFT-CDO-ALLDAYEVENT:FALSE
SUMMARY:Hometown Tourist
DESCRIPTION:Be Prepared for Summer Travelers \n\nBe a Hometown Tourist!\n\nVisit Fergus Falls invites business people and residents alike to participate in an exciting event on Friday\, May 11: "Hometown Tourist."  Two\, three-hour sessions (9 a.m.-12 p.m. and 1-4pm) are available and  include a motor coach tour with brief stops at the Otter Tail County Museum\, A Center for the Arts and Prairie Wetlands Learning Center.\n\n          "This is an opportunity for people to get to know Fergus Falls better\," said Jean Bowman\, executive director of Visit Fergus Falls. "Customer service is an integral part of every successful business. Let us expand on that by helping employees be more informed about the community they serve." Good customer service   especially to tourists   increases the likelihood that they will have a great experience in Fergus Falls\, come back for a repeat vacation\, and tell others what a hospitable community we have.\n\n          Take a journey through Fergus Falls in a comfortable motor coach with a knowledgeable tour guide. Registration is only $10 per person. \n\n          The tour is suited for front-line staff and managers alike. And while it's geared toward a business audience\, individuals interested in joining the tour are welcome too. Please take advantage of this opportunity to learn more about what makes Fergus Falls a great destination. Be a Hometown Tourist!\n\n \n\n          Registration DUE BY MONDAY\, April 30th
X-ALT-DESC;FMTTYPE=text/html:<p align="center" font-size:="" helvetica="" style="margin: 0in 0in 0pt\; color: rgb(34\, 34\, 34)\; font-family: Raleway\, HelveticaNeue\, " text-align:=""><span style="font-weight: 700\;"><span lang="EN" style="color: rgb(0\, 0\, 102)\; font-family: Tahoma\, sans-serif\; font-size: x-large\; font-variant-numeric: normal\; font-variant-east-asian: normal\; font-variant-caps: small-caps\;">Be Prepared for Summer Travelers&hellip\;</span></span></p>\n\n<p align="center" font-size:="" helvetica="" style="margin: 0in 0in 0pt\; color: rgb(34\, 34\, 34)\; font-family: Raleway\, HelveticaNeue\, " text-align:=""><span style="font-weight: 700\;"><span lang="EN" style="color: rgb(0\, 0\, 102)\; font-family: Tahoma\, sans-serif\; font-size: x-large\;">Be a Hometown Tourist!</span></span></p>\n\n<p font-size:="" helvetica="" line-height:="" style="margin: 0in 0in 0pt\; color: rgb(34\, 34\, 34)\; font-family: Raleway\, HelveticaNeue\, "><span lang="EN" style="line-height: 22px\; font-family: Tahoma\, sans-serif\; font-size: 11pt\;">Visit Fergus Falls invites business people and residents alike to participate in an exciting event on Friday\, May 11: &ldquo\;Hometown Tourist.&rdquo\;&nbsp\;&nbsp\;Two\,&nbsp\;three-hour sessions&nbsp\;(9 a.m.-12 p.m. and 1-4pm) are available and &nbsp\;include a motor coach tour with brief stops at the Otter Tail County Museum\, A Center for the Arts and Prairie Wetlands Learning Center.</span></p>\n\n<p font-size:="" helvetica="" line-height:="" style="margin: 0in 0in 0pt\; color: rgb(34\, 34\, 34)\; font-family: Raleway\, HelveticaNeue\, "><span lang="EN" style="line-height: 22px\; font-family: Tahoma\, sans-serif\; font-size: 11pt\;">&nbsp\;&nbsp\;&nbsp\;&nbsp\;&nbsp\;&nbsp\;&nbsp\;&nbsp\;&nbsp\;&nbsp\;&ldquo\;This is an opportunity for people to get to know Fergus Falls better\,&rdquo\; said Jean Bowman\, executive director of Visit Fergus Falls. &ldquo\;Customer service is an integral part of every successful business. Let us expand on that by helping employees be more informed about the community they serve.&rdquo\; Good customer service &ndash\; especially to tourists &ndash\; increases the likelihood that they will have a great experience in Fergus Falls\, come back for a repeat vacation\, and tell others what a hospitable community we have.</span></p>\n\n<p font-size:="" helvetica="" line-height:="" style="margin: 0in 0in 0pt\; color: rgb(34\, 34\, 34)\; font-family: Raleway\, HelveticaNeue\, "><span lang="EN" style="line-height: 22px\; font-family: Tahoma\, sans-serif\; font-size: 11pt\;">&nbsp\;&nbsp\;&nbsp\;&nbsp\;&nbsp\;&nbsp\;&nbsp\;&nbsp\;&nbsp\;&nbsp\;Take a journey through&nbsp\;<st1:place w:st="on"><st1:placename w:st="on">Fergus</st1:placename>&nbsp\;<st1:placetype w:st="on">Falls</st1:placetype></st1:place>&nbsp\;in a comfortable motor coach with a knowledgeable tour guide. Registration is&nbsp\;<span style="text-decoration-line: underline\;">only</span><span style="text-decoration-line: underline\;"> $10 per person</span>.&nbsp\;</span></p>\n\n<p font-size:="" helvetica="" line-height:="" style="margin: 0in 0in 0pt\; color: rgb(34\, 34\, 34)\; font-family: Raleway\, HelveticaNeue\, "><span lang="EN" style="line-height: 22px\; font-family: Tahoma\, sans-serif\; font-size: 11pt\;">&nbsp\;&nbsp\;&nbsp\;&nbsp\;&nbsp\;&nbsp\;&nbsp\;&nbsp\;&nbsp\;&nbsp\;The tour is suited for front-line staff and managers alike. And while it&rsquo\;s geared toward a business audience\, individuals interested in joining the tour are welcome too. Please take advantage of this opportunity to learn more about what makes Fergus Falls a great destination. Be a Hometown Tourist!</span></p>\n\n<p font-size:="" helvetica="" line-height:="" style="margin: 0in 0in 0pt\; color: rgb(34\, 34\, 34)\; font-family: Raleway\, HelveticaNeue\, ">&nbsp\;</p>\n\n<p font-size:="" helvetica="" style="margin: 0px 0px 1.5rem\; color: rgb(34\, 34\, 34)\; font-family: Raleway\, HelveticaNeue\, "><span lang="EN" style="color: black\; font-family: Tahoma\, sans-serif\; font-size: 11pt\;">&nbsp\;&nbsp\;&nbsp\;&nbsp\;&nbsp\;&nbsp\;&nbsp\;&nbsp\;&nbsp\;&nbsp\;<span style="color: rgb(0\, 0\, 102)\;"><span style="font-weight: 700\;">Registration DUE BY MONDAY\, April 30th</span></span></span></p>\n
LOCATION:Motorcoach Tour of Fergus Falls\, MN
UID:e.314.48740
SEQUENCE:3
DTSTAMP:20260423T224657Z
URL:https://business.fergusfalls.com/events/details/hometown-tourist-48740
END:VEVENT

END:VCALENDAR
