BEGIN:VCALENDAR
VERSION:2.0
PRODID:-//ChamberMaster//Event Calendar 2.0//EN
METHOD:PUBLISH
X-PUBLISHED-TTL:P3D
REFRESH-INTERVAL:P3D
CALSCALE:GREGORIAN
BEGIN:VEVENT
DTSTART:20210624T200000Z
DTEND:20210624T210000Z
X-MICROSOFT-CDO-ALLDAYEVENT:FALSE
SUMMARY:Hoot Lake Solar Open House
DESCRIPTION:Let's talk solar\n\nHoot Lake Solar Open House\n\nDrop by to learn more about Hoot Lake Solar.\n\nOr visit https://www.otpco.com/HootLakeSolar for project details\, including a comprehensive site design and screening and vegetation plan.
X-ALT-DESC;FMTTYPE=text/html:Let&#39\;s talk solar<br />\nHoot Lake Solar Open House<br />\nDrop by to learn more about Hoot Lake Solar.<br />\nOr visit https://www.otpco.com/HootLakeSolar for project details\, including a comprehensive site design and screening and vegetation plan.
LOCATION:Otter Tail Power Company Community Rooms 216 S. Cascade Fergus Falls\, MN
UID:e.314.62417
SEQUENCE:3
DTSTAMP:20260421T123426Z
URL:https://business.fergusfalls.com/events/details/hoot-lake-solar-open-house-62417
END:VEVENT

END:VCALENDAR
