BEGIN:VCALENDAR
VERSION:2.0
PRODID:-//ChamberMaster//Event Calendar 2.0//EN
METHOD:PUBLISH
X-PUBLISHED-TTL:P3D
REFRESH-INTERVAL:P3D
CALSCALE:GREGORIAN
BEGIN:VEVENT
DTSTART:20210921T160000Z
DTEND:20210921T200000Z
X-MICROSOFT-CDO-ALLDAYEVENT:FALSE
SUMMARY:Hot Dogs & Hot Jobs - Hiring Event!
DESCRIPTION:Join us for a hiring event at BeMobile Verizon!\n\n \n\nFree lunch and on-the-spot interviews are available. Sales Partners earn up to $25/ per hour plus full benefits.\n\n\n\nVisit us at our store at 409 W Lincoln Avenue to learn more!
X-ALT-DESC;FMTTYPE=text/html:<p>Join us for a hiring event at BeMobile Verizon!<br />\n&nbsp\;</p>\n\n<p>Free lunch and on-the-spot interviews are available. Sales Partners earn up to $25/ per hour plus full benefits.<br />\n<br />\nVisit us at our store at 409 W Lincoln Avenue to learn more!</p>\n
LOCATION:409 W Lincoln Avenue
UID:e.314.63614
SEQUENCE:3
DTSTAMP:20260421T090224Z
URL:https://business.fergusfalls.com/events/details/hot-dogs-hot-jobs-hiring-event-63614
END:VEVENT

END:VCALENDAR
