BEGIN:VCALENDAR
VERSION:2.0
PRODID:-//ChamberMaster//Event Calendar 2.0//EN
METHOD:PUBLISH
X-PUBLISHED-TTL:P3D
REFRESH-INTERVAL:P3D
CALSCALE:GREGORIAN
BEGIN:VEVENT
DTSTART:20151008T133000Z
DTEND:20151008T210000Z
X-MICROSOFT-CDO-ALLDAYEVENT:FALSE
SUMMARY:Housing Law & Resources Training (Bemidji)
DESCRIPTION:Working with the City on Rental Issues/Housing Codes (Presenters: Marty McDonough\, Municipal Affairs Director\, Minnesota Multi-Housing Assoc.\, Bloomington\, MN & Jerry Linke\, Housing Inspector\, Bemidji) Tax & Financial Considerations for Rental Property Owners:   Cash Flow   Depreciation   Income Tax Implications   Record-keeping (Presenter: Dane A. Jones\, CPA\, Krigbaum & Jones\, LTD\, Certified Public Accountants\, Bemidji) Landlord Tech Tricks: Marketing Your Units on a Limited Budget (Presenter: Josh Dye\, Housing Link\, Minneapolis) The Ten Laws Every Minnesota Landlord Should Understand   Applications   Discrimination   Repairs   Privacy   Notice to Vacate   Foreclosures   Renewing Leases   Evictions   Security Deposits   Hiring Help (Presenters: Mike Vraa\, Attorney\, HOMELine & Bob Enger\, Supervising Attorney\, Northwest Minn. Legal Services)
X-ALT-DESC;FMTTYPE=text/html:Working with the City on Rental Issues/Housing Codes (Presenters: Marty McDonough\, Municipal Affairs Director\, Minnesota Multi-Housing Assoc.\, Bloomington\, MN &amp\; Jerry Linke\, Housing Inspector\, Bemidji) Tax &amp\; Financial Considerations for Rental Property Owners: &brvbar\; Cash Flow &brvbar\; Depreciation &brvbar\; Income Tax Implications &brvbar\; Record-keeping (Presenter: Dane A. Jones\, CPA\, Krigbaum &amp\; Jones\, LTD\, Certified Public Accountants\, Bemidji) Landlord Tech Tricks: Marketing Your Units on a Limited Budget (Presenter: Josh Dye\, Housing Link\, Minneapolis) The Ten Laws Every Minnesota Landlord Should Understand &brvbar\; Applications &brvbar\; Discrimination &brvbar\; Repairs &brvbar\; Privacy &brvbar\; Notice to Vacate &brvbar\; Foreclosures &brvbar\; Renewing Leases &brvbar\; Evictions &brvbar\; Security Deposits &brvbar\; Hiring Help (Presenters: Mike Vraa\, Attorney\, HOMELine &amp\; Bob Enger\, Supervising Attorney\, Northwest Minn. Legal Services)
LOCATION:Hampton Inn\, Bemidji\, Minn.
UID:e.314.23948
SEQUENCE:3
DTSTAMP:20260426T025928Z
URL:https://business.fergusfalls.com/events/details/housing-law-resources-training-bemidji-10-08-2015-23948
END:VEVENT

END:VCALENDAR
