BEGIN:VCALENDAR
VERSION:2.0
PRODID:-//ChamberMaster//Event Calendar 2.0//EN
METHOD:PUBLISH
X-PUBLISHED-TTL:P3D
REFRESH-INTERVAL:P3D
CALSCALE:GREGORIAN
BEGIN:VEVENT
DTSTART:20171114T003000Z
DTEND:20171114T023000Z
X-MICROSOFT-CDO-ALLDAYEVENT:FALSE
SUMMARY:Human Trafficking and Exploitation in Rural MN
DESCRIPTION:A Community Presentation by Becki Jordan\, Safe Harbor West Central Regional Navigator.\n\nA panel discussion will follow\, with members including:\n\n-Det. Sgt Andrew Miller\, FFPD\n\n-Beth Monke\, MS\, LP-LMHC\n\n-Otter Tail Co. Human Services\n\n-Becki Jordan\, Someplace Safe
X-ALT-DESC;FMTTYPE=text/html:A Community Presentation by Becki Jordan\, Safe Harbor West Central Regional Navigator.<br />\nA panel discussion will follow\, with members including:<br />\n-Det. Sgt Andrew Miller\, FFPD<br />\n-Beth Monke\, MS\, LP-LMHC<br />\n-Otter Tail Co. Human Services<br />\n-Becki Jordan\, Someplace Safe
LOCATION:Our Lady of Victory Catholic Church 207 N Vine St. Fergus Falls MN
UID:e.314.43053
SEQUENCE:3
DTSTAMP:20260424T074058Z
URL:https://business.fergusfalls.com/events/details/human-trafficking-and-exploitation-in-rural-mn-43053
END:VEVENT

END:VCALENDAR
