BEGIN:VCALENDAR
VERSION:2.0
PRODID:-//ChamberMaster//Event Calendar 2.0//EN
METHOD:PUBLISH
X-PUBLISHED-TTL:P3D
REFRESH-INTERVAL:P3D
CALSCALE:GREGORIAN
BEGIN:VEVENT
DTSTART:20180424T230000Z
DTEND:20180425T000000Z
X-MICROSOFT-CDO-ALLDAYEVENT:FALSE
SUMMARY:Human Trafficking and Sexual Exploitation-Addressing the Demand
DESCRIPTION:Human Trafficking and Sexual Exploitation\n\nAddressing the Demand
X-ALT-DESC;FMTTYPE=text/html:Human Trafficking and Sexual Exploitation<br />\nAddressing the Demand
LOCATION:St. James Episcopal Church 321 Lakeside Drive Fergus Falls MN 56537 (218) 736-6736
UID:e.314.43814
SEQUENCE:3
DTSTAMP:20260423T235610Z
URL:https://business.fergusfalls.com/events/details/human-trafficking-and-sexual-exploitation-addressing-the-demand-43814
END:VEVENT

END:VCALENDAR
