BEGIN:VCALENDAR
VERSION:2.0
PRODID:-//ChamberMaster//Event Calendar 2.0//EN
METHOD:PUBLISH
X-PUBLISHED-TTL:P3D
REFRESH-INTERVAL:P3D
CALSCALE:GREGORIAN
BEGIN:VEVENT
DTSTART:20180307T000000Z
DTEND:20180307T020000Z
X-MICROSOFT-CDO-ALLDAYEVENT:FALSE
SUMMARY:Human Trafficking and Sexual Exploitation- What Can We Do?
DESCRIPTION:Identifying Exploitation\, Taking Action and Addressing Demand
X-ALT-DESC;FMTTYPE=text/html:Identifying Exploitation\, Taking Action and Addressing Demand
LOCATION:St. James Episcopal Church 321 Lakeside Drive Fergus Falls MN 56537 (218) 736-6736
UID:e.314.43813
SEQUENCE:3
DTSTAMP:20260424T013253Z
URL:https://business.fergusfalls.com/events/details/human-trafficking-and-sexual-exploitation-what-can-we-do-43813
END:VEVENT

END:VCALENDAR
