BEGIN:VCALENDAR
VERSION:2.0
PRODID:-//ChamberMaster//Event Calendar 2.0//EN
METHOD:PUBLISH
X-PUBLISHED-TTL:P3D
REFRESH-INTERVAL:P3D
CALSCALE:GREGORIAN
BEGIN:VEVENT
DTSTART:20180409T220000Z
DTEND:20180410T000000Z
X-MICROSOFT-CDO-ALLDAYEVENT:FALSE
SUMMARY:Humane Society Fundraiser Spay-Ghetti Dinner
DESCRIPTION:Spay-Ghetti fundraiser dinner will benefit the Humane Society of Otter Tail County! Enjoy a delicious spaghetti dinner\, a silent auction and other family fun activities. Please come support the animals.
X-ALT-DESC;FMTTYPE=text/html:Spay-Ghetti fundraiser dinner will benefit the Humane Society of Otter Tail County! Enjoy a delicious spaghetti dinner\, a silent auction and other family fun activities. Please come support the animals.
LOCATION:VFW 420 E. Washington Avenue Fergus Falls\, MN
UID:e.314.43883
SEQUENCE:3
DTSTAMP:20260423T235349Z
URL:https://business.fergusfalls.com/events/details/humane-society-fundraiser-spay-ghetti-dinner-43883
END:VEVENT

END:VCALENDAR
