BEGIN:VCALENDAR
VERSION:2.0
PRODID:-//ChamberMaster//Event Calendar 2.0//EN
METHOD:PUBLISH
X-PUBLISHED-TTL:P3D
REFRESH-INTERVAL:P3D
CALSCALE:GREGORIAN
BEGIN:VEVENT
DTSTART:20160402T150000Z
DTEND:20160402T190000Z
X-MICROSOFT-CDO-ALLDAYEVENT:FALSE
SUMMARY:Humane Society Microchip Clinic
DESCRIPTION:1 in 3 pets goes missing during its lifetime\, and without proper id\, 90% never return home. A microchip for dogs and cats gives the best protection with permanent ID that can never be removed or become impossible to read. It's never too late to get your pet microchipped!\n\nThe Humane Society of OTC is holding a clinic on Sat.\, April 2nd.  A micochip implant just takes seconds\, and then your pet has a permanent ID that will last its entire lifetime!\n\n\n\nPlease Call 218-739-3494 for an Appointment\n\nFee $25\n\nBring proof of ownership (vet records)\n\nDogs must be leashed\n\nCats must be crated
X-ALT-DESC;FMTTYPE=text/html:1 in 3 pets goes missing during its lifetime\, and without proper id\, 90% never return home. A microchip for dogs and cats gives the best protection with permanent&nbsp\;ID that can never be removed or become impossible to read. It&#39\;s never too late to get your pet microchipped!<br />\nThe Humane Society of OTC is holding a clinic on Sat.\,&nbsp\;April 2nd.&nbsp\; A micochip implant just takes seconds\, and then your pet has a permanent ID that will last its entire lifetime!<br />\n<br />\n<strong><span style="font-size: 18px\;">Please Call 218-739-3494 for an Appointment<br />\nFee $25</span></strong><br />\n<strong><span style="font-size: 16px\;">Bring proof of ownership (vet records)<br />\nDogs must be leashed<br />\nCats must be crated</span></strong><br />\n&nbsp\;
LOCATION:Humane Society of Otter Tail County 1933 W. Fir Ave. Fergus Falls\, MN 56537
UID:e.314.32059
SEQUENCE:3
DTSTAMP:20260425T162958Z
URL:https://business.fergusfalls.com/events/details/humane-society-microchip-clinic-04-02-2016-32059
END:VEVENT

END:VCALENDAR
