BEGIN:VCALENDAR
VERSION:2.0
PRODID:-//ChamberMaster//Event Calendar 2.0//EN
METHOD:PUBLISH
X-PUBLISHED-TTL:P3D
REFRESH-INTERVAL:P3D
CALSCALE:GREGORIAN
BEGIN:VEVENT
DTSTART:20180922T160000Z
DTEND:20180922T190000Z
X-MICROSOFT-CDO-ALLDAYEVENT:FALSE
SUMMARY:Humane Society of Otter Tail County Open House
DESCRIPTION:The Humane Society of Otter Tail County is Celebrating 40 years!\n\n\n\n*Local Vendors\n\n*Door Prizes\n\n*Kids Activities\n\n*K-9 Scent Demonstration:\n\n     Deputy Zac Eifert and Mojo from the OTC Sheriff's Dept. K9 Team will be here.\n\n\n\nServing: Hotdogs\, Chips\, Beverage & Cake
X-ALT-DESC;FMTTYPE=text/html:<span style="font-size:20px\;"><strong><span style="color:#0000FF\;"><span style="font-family:tahoma\;">The Humane Society of Otter Tail County is Celebrating 40 years!</span></span></strong></span><br />\n<br />\n<span style="color:#000000\;"><span style="font-size:16px\;"><span style="font-family:tahoma\;">*Local Vendors<br />\n*Door Prizes<br />\n*Kids Activities<br />\n*K-9 Scent Demonstration:<br />\n&nbsp\; &nbsp\; &nbsp\;Deputy Zac Eifert and Mojo from the OTC Sheriff&#39\;s Dept. K9 Team will be here.</span></span></span><br />\n<br />\n<span style="color:#FF0000\;"><span style="font-size:14px\;"><span style="font-family:tahoma\;"><span style="font-size:16px\;">Serving: Hotdogs\, Chips\, Beverage &amp\; Cake</span></span></span></span><br />\n<br />\n&nbsp\;
LOCATION:Humane Society 1933 W Fir Ave. Fergus Falls MN 56537
UID:e.314.50358
SEQUENCE:3
DTSTAMP:20260423T165747Z
URL:https://business.fergusfalls.com/events/details/humane-society-of-otter-tail-county-open-house-50358
END:VEVENT

END:VCALENDAR
