BEGIN:VCALENDAR
VERSION:2.0
PRODID:-//ChamberMaster//Event Calendar 2.0//EN
METHOD:PUBLISH
X-PUBLISHED-TTL:P3D
REFRESH-INTERVAL:P3D
CALSCALE:GREGORIAN
BEGIN:VEVENT
DTSTART:20171029T000000Z
DTEND:20171029T020000Z
X-MICROSOFT-CDO-ALLDAYEVENT:FALSE
SUMMARY:Humor for Heroes
DESCRIPTION:A $10 admission lets you join a fundraising comedy tour in support of Lone Survivor Foundation. Their mission is to restore\, empower\, and renew hope for wounded service members and their families through health\, wellness\, and therapeutic support. Doors open at 6:00 pm. Show starts at 7:00 pm.
X-ALT-DESC;FMTTYPE=text/html:<span class="_4n-j _3cht fsl" data-testid="event-permalink-details">A $10 admission lets you join a fundraising comedy tour in support of Lone Survivor Foundation. Their mission is to restore\, empower\, and renew hope for wounded service members and their families through health\, wellness\, and therapeutic support. Doors open at 6:00 pm. Show starts at 7:00 pm.</span>
LOCATION:Fergus Falls VFW Post 612 Auxiliary 420 E Washington Ave
UID:e.314.42889
SEQUENCE:3
DTSTAMP:20260424T092308Z
URL:https://business.fergusfalls.com/events/details/humor-for-heroes-42889
END:VEVENT

END:VCALENDAR
