BEGIN:VCALENDAR
VERSION:2.0
PRODID:-//ChamberMaster//Event Calendar 2.0//EN
METHOD:PUBLISH
X-PUBLISHED-TTL:P3D
REFRESH-INTERVAL:P3D
CALSCALE:GREGORIAN
BEGIN:VEVENT
DTSTART:20160423T180000Z
DTEND:20160423T200000Z
X-MICROSOFT-CDO-ALLDAYEVENT:FALSE
SUMMARY:I-94 Speedway Applications/Interview day!
DESCRIPTION:I-94 Speedway Applications/Interview day!\n\nApril 23rd Saturday at the Best Western 1-3pm main entrance.\n\nBe part of the Team at I-94 Speedway\, Season opener May 6th\n\nSchedule posted on website.
X-ALT-DESC;FMTTYPE=text/html:<strong>I-94 Speedway Applications/Interview day!</strong><br />\nApril 23rd Saturday at the Best Western 1-3pm main entrance.<br />\nBe part of the Team at I-94 Speedway\, Season opener May 6th<br />\nSchedule posted on website.
LOCATION:Best Western 925 Western Avenue Fergus Falls\, MN
UID:e.314.32338
SEQUENCE:3
DTSTAMP:20260425T162958Z
URL:https://business.fergusfalls.com/events/details/i-94-speedway-applications-interview-day-04-23-2016-32338
END:VEVENT

END:VCALENDAR
