BEGIN:VCALENDAR
VERSION:2.0
PRODID:-//ChamberMaster//Event Calendar 2.0//EN
METHOD:PUBLISH
X-PUBLISHED-TTL:P3D
REFRESH-INTERVAL:P3D
CALSCALE:GREGORIAN
BEGIN:VEVENT
DTSTART:20170204T170000Z
DTEND:20170204T230000Z
X-MICROSOFT-CDO-ALLDAYEVENT:FALSE
SUMMARY:Ice Bowling
DESCRIPTION:Registration begins at 11:00am\n\n\n\nCost : $15 per person\n\n2 person teams\n\n\n\n18 yrs old and older\n\nBut will also have lanes available for kids (no entry fee for kids no prizes given)
X-ALT-DESC;FMTTYPE=text/html:<span class="_4n-j _3cht fsl">Registration begins at 11:00am<br />\n<br />\nCost : $15 per person<br />\n2 person teams<br />\n<br />\n18 yrs old and older<br />\nBut will also have lanes available for kids (no entry fee for kids no prizes given)</span>
LOCATION:Delagoon Park Dr\, Fergus Falls\,
UID:e.314.38095
SEQUENCE:3
DTSTAMP:20260424T224633Z
URL:https://business.fergusfalls.com/events/details/ice-bowling-38095
END:VEVENT

END:VCALENDAR
