BEGIN:VCALENDAR
VERSION:2.0
PRODID:-//ChamberMaster//Event Calendar 2.0//EN
METHOD:PUBLISH
X-PUBLISHED-TTL:P3D
REFRESH-INTERVAL:P3D
CALSCALE:GREGORIAN
BEGIN:VEVENT
DTSTART:20190519T153000Z
DTEND:20190520T043000Z
X-MICROSOFT-CDO-ALLDAYEVENT:FALSE
SUMMARY:Ice Cream Social
DESCRIPTION:Celebrate the Sunday School year with us on Sunday\, May 19th after worship. We will enjoy delicious ice cream treats in the fellowship hall at 10:30am. Thank you for the amazing year!
X-ALT-DESC;FMTTYPE=text/html:<div class="_63ew" data-testid="event-permalink-details"><span>Celebrate the Sunday School year with us on Sunday\, May 19th after worship. We will enjoy delicious ice cream treats in the fellowship hall at 10:30am. Thank you for the amazing year! </span></div>\n
LOCATION:The Federated Church 224 N Union Ave
UID:e.314.53959
SEQUENCE:3
DTSTAMP:20260423T050311Z
URL:https://business.fergusfalls.com/events/details/ice-cream-social-53959
END:VEVENT

END:VCALENDAR
