BEGIN:VCALENDAR
VERSION:2.0
PRODID:-//ChamberMaster//Event Calendar 2.0//EN
METHOD:PUBLISH
X-PUBLISHED-TTL:P3D
REFRESH-INTERVAL:P3D
CALSCALE:GREGORIAN
BEGIN:VEVENT
DTSTART;VALUE=DATE:20190202
DTEND;VALUE=DATE:20190203
TRANSP:TRANSPARENT
X-MICROSOFT-CDO-ALLDAYEVENT:TRUE
SUMMARY:Ice Rink Information
DESCRIPTION:ICE RINKS\n\n\n\n        Cleveland Outdoor warming house will open today (Wednesday\, December 26) at 12:00 pm. The Cleveland Warming House hours will be 12\; 00 pm - 8:00pm on non-school days and 3:30 pm-8:00 pm on school days. (New Year?s Eve 12:00 pm-4:00 pm & Closed New Year?s Day)\n\n\n\n        Channing Rink does not have a warming house but the ice will be ready to skate on Friday\, December 28th with the rink lights on a timer.  The nets will be placed on the ice on Friday.\n\n\n\n        Lake Alice's warming house will only be open on Friday\, Saturdays and Sundays beginning on Friday\, January 4th. Lights will be on a timer beginning Monday\, December 31\, Lake Alice is for pleasure skating only and there will be no nets placed on the rink.\n\n\n\n        The Community Arena has open skate and open hockey times available throughout the season as well - please check out our monthly schedule at https://www.ci.fergus-falls.mn.us/ on the parks and recreation page under facilities under the Community Arena tab for an arena schedule\, or swing by our office at 340 Friberg Ave to pick up the schedule.
X-ALT-DESC;FMTTYPE=text/html:<p>ICE RINKS</p>\n\n<p><br>\n&nbsp\; &nbsp\; &nbsp\; &nbsp\;<strong> Cleveland</strong> Outdoor warming house will open today (Wednesday\, December 26) at 12:00 pm. The Cleveland Warming House hours will be 12\; 00 pm - 8:00pm on non-school days and 3:30 pm-8:00 pm on school days. (New Year?s Eve 12:00 pm-4:00 pm &amp\; Closed New Year?s Day)<br>\n<br>\n&nbsp\; &nbsp\; &nbsp\; &nbsp\; <strong>Channing Rink</strong> does not have a warming house but the ice will be ready to skate on Friday\, December 28th with the rink lights on a timer. &nbsp\;The nets will be placed on the ice on Friday.<br>\n<br>\n&nbsp\; &nbsp\; &nbsp\; &nbsp\; <strong>Lake Alice's</strong> warming house will only be open on Friday\, Saturdays and Sundays beginning on Friday\, January 4th. Lights will be on a timer beginning Monday\, December 31\, Lake Alice is for pleasure skating only and there will be no nets placed on the rink.<br>\n<br>\n&nbsp\; &nbsp\; &nbsp\; &nbsp\; The <strong>Community Arena</strong> has open skate and open hockey times available throughout the season as well - please check out our monthly schedule at <a href="https://www.ci.fergus-falls.mn.us/"><font color="#0066cc">https://www.ci.fergus-falls.mn.us/</font></a> on the parks and recreation page under facilities under the Community Arena tab for an arena schedule\, or swing by our office at 340 Friberg Ave to pick up the schedule.</p>\n
LOCATION:
UID:e.314.52235
SEQUENCE:3
DTSTAMP:20260423T093129Z
URL:https://business.fergusfalls.com/events/details/ice-rink-information-02-02-2019-52235
END:VEVENT

END:VCALENDAR
