BEGIN:VCALENDAR
VERSION:2.0
PRODID:-//ChamberMaster//Event Calendar 2.0//EN
METHOD:PUBLISH
X-PUBLISHED-TTL:P3D
REFRESH-INTERVAL:P3D
CALSCALE:GREGORIAN
BEGIN:VEVENT
DTSTART:20151205T223000Z
DTEND:20151206T030000Z
X-MICROSOFT-CDO-ALLDAYEVENT:FALSE
SUMMARY:"Images of Adoration" Christmas Concert
DESCRIPTION:Free Christmas Concert Senior Choir and Orchestra perform "Images of Adoratin" reflections of Christ in symbols of the season. Written and arranged by Pepper Choplin and orchestration by Michael Lawrence. Two performances - 4:30 and 7:30 p.m.
X-ALT-DESC;FMTTYPE=text/html:Free Christmas Concert Senior Choir and Orchestra perform &quot\;Images of Adoratin&quot\; reflections of Christ in symbols of the season. Written and arranged by Pepper Choplin and orchestration by Michael Lawrence. Two performances - 4:30 and 7:30 p.m.
LOCATION:Federated Church 224 N. Union
UID:e.314.25104
SEQUENCE:3
DTSTAMP:20260425T234338Z
URL:https://business.fergusfalls.com/events/details/images-of-adoration-christmas-concert-12-05-2015-25104
END:VEVENT

END:VCALENDAR
