BEGIN:VCALENDAR
VERSION:2.0
PRODID:-//ChamberMaster//Event Calendar 2.0//EN
METHOD:PUBLISH
X-PUBLISHED-TTL:P3D
REFRESH-INTERVAL:P3D
CALSCALE:GREGORIAN
BEGIN:VEVENT
DTSTART;VALUE=DATE:20161109
DTEND;VALUE=DATE:20161110
TRANSP:TRANSPARENT
X-MICROSOFT-CDO-ALLDAYEVENT:TRUE
SUMMARY:INDIVIDUAL AND SMALL GROUP INSURANCE EDUCATIONAL SESSIONS
DESCRIPTION:INDIVIDUAL AND SMALL GROUP INSURANCE EDUCATIONAL SESSIONS\n\nBlue Cross Blue Shield of Minnesota and the Minnesota Service Cooperatives invite you to learn about options for 2017 individual and small group health insurance. \n\nNovember 9\, 2016 \n\n9:00 a.m. and 12:00 p.m. \n\nLakes Country Service Cooperative Office\n\n1001 East Mount Faith Ave. Fergus Falls\n\nThis event is open to the public.\n\nBlue Cross  and Blue Shield  of Minnesota and Blue Plus  are nonprofit independent licensees of the Blue Cross and Blue Shield Association.  Blue Cross complies with applicable Federal civil rights laws and does not discriminate on the basis of race\, color\, national origin\, age\, disability\, or gender.
X-ALT-DESC;FMTTYPE=text/html:<br />\n<strong><span style="font-family: arial\,sans-serif\;"><span style="font-size: medium\;">INDIVIDUAL AND SMALL GROUP INSURANCE EDUCATIONAL SESSIONS</span></span></strong><br />\n<span style="font-family: arial\,sans-serif\;"><span style="font-size: medium\;">Blue Cross Blue Shield of Minnesota and the Minnesota Service Cooperatives invite you to learn about options for 2017 individual and small group health insurance. </span></span><br />\n<strong><span style="font-family: arial\,sans-serif\;"><span style="font-size: medium\;">November 9\, 2016 </span></span></strong><br />\n<span style="font-family: arial\,sans-serif\;"><span style="font-size: medium\;">9:00 a.m. and 12:00 p.m. </span><br />\n<span style="font-size: medium\;">Lakes Country Service Cooperative Office<br />\n1001 East Mount Faith Ave. Fergus Falls</span></span><br />\n<span style="font-family: arial\,sans-serif\;"><span style="font-size: medium\;">This event is open to the public.</span></span><br />\n<span style="font-family: arial\,sans-serif\;"><span style="font-size: medium\;">Blue Cross<sup><span style="font-size: small\;">&reg\;</span></sup></span><span style="font-size: medium\;"> and Blue Shield</span><sup><span style="font-size: small\;">&reg\;</span></sup><span style="font-size: medium\;"> of Minnesota and Blue Plus</span><sup><span style="font-size: small\;">&reg\;</span></sup><span style="font-size: medium\;"> are nonprofit independent licensees of the Blue Cross and Blue Shield Association.&nbsp\; Blue Cross complies with applicable Federal civil rights laws and does not discriminate on the basis of race\, color\, national origin\, age\, disability\, or gender.</span></span><br />\n&nbsp\;
LOCATION:Lakes Country Service Cooperative Office 1001 East Mount Faith Ave. Fergus Falls
UID:e.314.36610
SEQUENCE:3
DTSTAMP:20260425T040504Z
URL:https://business.fergusfalls.com/events/details/individual-and-small-group-insurance-educational-sessions-36610
END:VEVENT

END:VCALENDAR
