BEGIN:VCALENDAR
VERSION:2.0
PRODID:-//ChamberMaster//Event Calendar 2.0//EN
METHOD:PUBLISH
X-PUBLISHED-TTL:P3D
REFRESH-INTERVAL:P3D
CALSCALE:GREGORIAN
BEGIN:VEVENT
DTSTART:20160426T153000Z
DTEND:20160426T170000Z
X-MICROSOFT-CDO-ALLDAYEVENT:FALSE
SUMMARY:Info Session 1: Small Business & Access to Capital presented by Hill Capital Corp.
DESCRIPTION:Small Business Owners\, Lenders\, Entrepreneurs\, Investors\, Economic Development Professionals\, Business & Finance Consultants\, Community Supporters:\n\nYou are invited to attend an information session presented by Hill Capital Corporation "Small Business & Access to Capital" on Tuesday\, April 26\, 2016 in Fergus Falls.\n\nPatrick Donohue\, President & CEO of Hill Capital Corporation\, will lead a discussion covering:\n\n\n	The Mission & Vision of Hill Capital Corp.\n	Describe the funding gap facing our small businesses.\n	Outline a potential solution through the organization of a new regional investment fund.\n	Discuss how supporters of small business and entrepreneurship can get involved.\n\n"Few things are more worthless or uneasy than capital unemployed\, and wealth locked up in vaults in a great city is just as useless to its possessor as heaps of gold to Robinson Crusoe" -- James J. Hill\, The Empire Builder\n\n\n\nCo-hosted by the Fergus Falls Area Chamber of Commerce and Fergus Falls Economic Improvement Commission.
X-ALT-DESC;FMTTYPE=text/html:<span style="color:#000000\;">Small Business Owners\, Lenders\, Entrepreneurs\, Investors\, Economic Development Professionals\, Business &amp\; Finance Consultants\, Community Supporters:<br />\nYou are invited to attend an information session presented by Hill Capital Corporation &quot\;Small Business &amp\; Access to Capital&quot\; on Tuesday\, April 26\, 2016 in Fergus Falls.<br />\nPatrick Donohue\, President &amp\; CEO of Hill Capital Corporation\, will lead a discussion covering:</span>\n\n<ul>\n	<li><strong><span style="color:#000000\;">The Mission &amp\; Vision of Hill Capital Corp.</span></strong></li>\n	<li><strong><span style="color:#000000\;">Describe the funding gap facing our small businesses.</span></strong></li>\n	<li><strong><span style="color:#000000\;">Outline a potential solution through the organization of a new regional investment fund.</span></strong></li>\n	<li><strong><span style="color:#000000\;">Discuss how supporters of small business and entrepreneurship can get involved.</span></strong></li>\n</ul>\n<span style="color:#000000\;"><em><span style="font-family:times new roman\;">&quot\;Few things are more worthless or uneasy than capital unemployed\, and wealth locked up in vaults in a great city is just as useless to its possessor as heaps of gold to Robinson Crusoe&quot\; -- James J. Hill\, The Empire Builder</span></em><br />\n<br />\nCo-hosted by the Fergus Falls Area Chamber of Commerce and Fergus Falls Economic Improvement Commission.</span>
LOCATION:City Council Chambers Fergus Falls City Hall 112 W. Washington Ave. Fergus Falls\, MN
UID:e.314.32622
SEQUENCE:3
DTSTAMP:20260425T163656Z
URL:https://business.fergusfalls.com/events/details/info-session-1-small-business-access-to-capital-presented-by-hill-capital-corp-04-26-2016-32622
END:VEVENT

END:VCALENDAR
