BEGIN:VCALENDAR
VERSION:2.0
PRODID:-//ChamberMaster//Event Calendar 2.0//EN
METHOD:PUBLISH
X-PUBLISHED-TTL:P3D
REFRESH-INTERVAL:P3D
CALSCALE:GREGORIAN
BEGIN:VEVENT
DTSTART:20171012T160000Z
DTEND:20171012T230000Z
X-MICROSOFT-CDO-ALLDAYEVENT:FALSE
SUMMARY:InVision Fall Frame Show
DESCRIPTION:Transport yourself to Spain at the InVision fall frame show\, Thursday\, October 12th from 11-6! This years show will feature the unique eyewear line of Etnia Barcelona! Colorful\, fun\, vintage\, made of the world's most innovative materials. Stop in to take advantage of 30% OFF frame AND lenses! (Discounts cannot be used with insurance benefits) Also 50% OFF your SECOND PAIR!! Be sure to sign up for our GREAT PRIZES too: 1 complete pair of glasses\, 1 pair of non-prescription sunglasses and a gift bag!! Hope to see you there!
X-ALT-DESC;FMTTYPE=text/html:<span class="_4n-j _3cht fsl" data-testid="event-permalink-details">Transport yourself to Spain at the InVision fall frame show\, Thursday\, October 12th from 11-6! This years show will feature the unique eyewear line of Etnia Barcelona! Colorful\, fun\, vintage\, made of the world&rsquo\;s most innovative materials. Stop in to take advantage of 30% OFF frame AND lenses! (Discounts cannot be used with insurance benefits) Also 50% OFF your SECOND PAIR!! Be sure to sign up for our GREAT PRIZES too: 1 complete pair of glasses\, 1 pair of non-prescription sunglasses and a gift bag!! Hope to see you there!</span>
LOCATION:
UID:e.314.42866
SEQUENCE:3
DTSTAMP:20260424T104106Z
URL:https://business.fergusfalls.com/events/details/invision-fall-frame-show-42866
END:VEVENT

END:VCALENDAR
