BEGIN:VCALENDAR
VERSION:2.0
PRODID:-//ChamberMaster//Event Calendar 2.0//EN
METHOD:PUBLISH
X-PUBLISHED-TTL:P3D
REFRESH-INTERVAL:P3D
CALSCALE:GREGORIAN
BEGIN:VEVENT
DTSTART:20181011T160000Z
DTEND:20181011T230000Z
X-MICROSOFT-CDO-ALLDAYEVENT:FALSE
SUMMARY:InVision Fall Frame Show
DESCRIPTION:Fall\, by definition\, is that time of year when moms and dads everywhere\, take care of everyone\, except themselves! Well\, now it's time for YOU!! Join us on October 11th to see the latest from OGA\, Lightec\, Koali and Nomad\, all at 30% OFF for this one day only(discounts cannot be used with insurance benefits/some exclusions apply)! AND 50% OFF your second pair!! Be sure to sign up for our GREAT PRIZES too: 1 complete pair of glasses\, 1 pair of non-prescription sunglasses and a gift bag(FULL of fun stuff) \n\nHope you join us!!
X-ALT-DESC;FMTTYPE=text/html:<span style="color: rgb(29\, 33\, 41)\; font-family: Helvetica\, Arial\, sans-serif\; font-size: 14px\; background-color: rgb(255\, 255\, 255)\;">Fall\, by definition\, is that time of year when moms and dads everywhere\, take care of everyone\, except themselves! Well\, now it&rsquo\;s time for YOU!! Join us on October 11th to see the latest from OGA\, Lightec\, Koali and Nomad\, all at 30% OFF for this one day only(discounts cannot be used with insurance benefits/some exclusions apply)! AND 50% OFF your second pair!! Be sure to sign up for our GREAT PRIZES too: 1 complete pair of glasses\, 1 pair of non-prescription sunglasses and a gift bag(FULL of fun stuff)&nbsp\;</span><br style="color: rgb(29\, 33\, 41)\; font-family: Helvetica\, Arial\, sans-serif\; font-size: 14px\; background-color: rgb(255\, 255\, 255)\;" />\n<span style="color: rgb(29\, 33\, 41)\; font-family: Helvetica\, Arial\, sans-serif\; font-size: 14px\; background-color: rgb(255\, 255\, 255)\;">Hope you join us!!</span>
LOCATION:InVision Eye Care 810 N Baird Ave Fergus Falls MN 56537
UID:e.314.50466
SEQUENCE:3
DTSTAMP:20260423T150528Z
URL:https://business.fergusfalls.com/events/details/invision-fall-frame-show-50466
END:VEVENT

END:VCALENDAR
