BEGIN:VCALENDAR
VERSION:2.0
PRODID:-//ChamberMaster//Event Calendar 2.0//EN
METHOD:PUBLISH
X-PUBLISHED-TTL:P3D
REFRESH-INTERVAL:P3D
CALSCALE:GREGORIAN
BEGIN:VEVENT
DTSTART:20151022T160000Z
DTEND:20151022T230000Z
X-MICROSOFT-CDO-ALLDAYEVENT:FALSE
SUMMARY:InVision Frame Show 2015
DESCRIPTION:InVision Fall Fram Show 2015\n\nThursday Oct 22nd\n\n11am-6pm\n\n\n\nIt's that time again!! For the fall frame show we are featuring OGA\, Lightec and Koali. Stop by to take advantage of 30% OFF frame AND lenses!!(Discounts cannot be used with insurance benefits). Not to mention 50% off your SECOND PAIR!! Be sure to stop by to check out the AWESOME PRIZES: 2 complete pairs of glasses\, gift card and a gift bag(full of fun stuff)!! See you there!!
X-ALT-DESC;FMTTYPE=text/html:<strong>InVision Fall Fram Show 2015<br />\nThursday Oct 22nd<br />\n11am-6pm</strong><br />\n<br />\n<span class="fsl">It&#39\;s that time again!! For the fall frame show we are featuring OGA\, Lightec and Koali. Stop by to take advantage of 30% OFF frame AND lenses!!(Discounts cannot be used with insurance benefits). Not to mention 50% off your SECOND PAIR!! Be sure to stop by to check out the AWESOME PRIZES: 2 complete pairs of glasses\, gift card and a gift bag(full of fun stuff)!! See you there!!</span><br />\n&nbsp\;
LOCATION:InVision Eye Care 810 Baird Ave Fergus Falls Mn
UID:e.314.25087
SEQUENCE:3
DTSTAMP:20260426T025825Z
URL:https://business.fergusfalls.com/events/details/invision-frame-show-2015-10-22-2015-25087
END:VEVENT

END:VCALENDAR
