BEGIN:VCALENDAR
VERSION:2.0
PRODID:-//ChamberMaster//Event Calendar 2.0//EN
METHOD:PUBLISH
X-PUBLISHED-TTL:P3D
REFRESH-INTERVAL:P3D
CALSCALE:GREGORIAN
BEGIN:VEVENT
DTSTART:20160505T160000Z
DTEND:20160505T230000Z
X-MICROSOFT-CDO-ALLDAYEVENT:FALSE
SUMMARY:InVision Spring Frame Show
DESCRIPTION:Spring Frame Show is here again!! We are featuring Helium\, Vanni and Float. Stop by to take advantage of 30% OFF frame AND lenses!!(Discounts cannot be used with insurance benefits). Not to mention 50% off your SECOND PAIR!! Be sure to stop by to check out the AWESOME PRIZES: 2 complete pairs of glasses\, gift card and a gift bag(full of fun stuff)!! See you there!!
X-ALT-DESC;FMTTYPE=text/html:Spring Frame Show is here again!! We are featuring Helium\, Vanni and Float. Stop by to take advantage of 30% OFF frame AND lenses!!(Discounts cannot be used with insurance benefits). Not to mention 50% off your SECOND PAIR!! Be sure to stop by to check out the AWESOME PRIZES: 2 complete pairs of glasses\, gift card and a gift bag(full of fun stuff)!! See you there!!
LOCATION:InVision Eye Care
UID:e.314.32629
SEQUENCE:3
DTSTAMP:20260425T145031Z
URL:https://business.fergusfalls.com/events/details/invision-spring-frame-show-05-05-2016-32629
END:VEVENT

END:VCALENDAR
