BEGIN:VCALENDAR
VERSION:2.0
PRODID:-//ChamberMaster//Event Calendar 2.0//EN
METHOD:PUBLISH
X-PUBLISHED-TTL:P3D
REFRESH-INTERVAL:P3D
CALSCALE:GREGORIAN
BEGIN:VEVENT
DTSTART:20180503T160000Z
DTEND:20180503T230000Z
X-MICROSOFT-CDO-ALLDAYEVENT:FALSE
SUMMARY:InVision Spring Frame Show
DESCRIPTION:It's finally Spring in Minnesota\, don'tcha know and that means time to reveal the hottest new trends in eyewear! On May 3rd\, O.G.I. and Seraphin\, your Minnesota owned company will have 700 FRAMES to try on\, all at 30% OFF for this one day only(Discounts cannot be used with insurance benefits)! AND 50% OFF your second pair!! Uffda\, that's a big show!!! Be sure to sign up for our GREAT PRIZES too: 1 complete pair of glasses\, 1 pair of non-prescription sunglasses and a MN state park gift card!! Hope to see you there!
X-ALT-DESC;FMTTYPE=text/html:<span class="_4n-j _3cht fsl" data-testid="event-permalink-details">It&rsquo\;s finally Spring in Minnesota\, don&rsquo\;tcha know&hellip\;and that means time to reveal the hottest new trends in eyewear! On May 3rd\, O.G.I. and Seraphin\, your Minnesota owned company will have 700 FRAMES to try on\, all at 30% OFF for this one day only(Discounts cannot be used with insurance benefits)! AND 50% OFF your second pair!! Uffda\, that&rsquo\;s a big show!!! Be sure to sign up for our GREAT PRIZES too: 1 complete pair of glasses\, 1 pair of non-prescription sunglasses and a MN state park gift card!! Hope to see you there!</span>
LOCATION:InVision Eye Care 810 N Baird Ave\, Fergus Falls\, Minnesota
UID:e.314.48771
SEQUENCE:3
DTSTAMP:20260423T223939Z
URL:https://business.fergusfalls.com/events/details/invision-spring-frame-show-48771
END:VEVENT

END:VCALENDAR
