BEGIN:VCALENDAR
VERSION:2.0
PRODID:-//ChamberMaster//Event Calendar 2.0//EN
METHOD:PUBLISH
X-PUBLISHED-TTL:P3D
REFRESH-INTERVAL:P3D
CALSCALE:GREGORIAN
BEGIN:VEVENT
DTSTART:20160718T220000Z
DTEND:20160718T230000Z
X-MICROSOFT-CDO-ALLDAYEVENT:FALSE
SUMMARY:iPhone Class for Beginners - FFPL
DESCRIPTION:Learn how to download apps\, take photos\, share photos with family and friends\, add contacts\, text and more. This is a beginner level\, hands-on class.
X-ALT-DESC;FMTTYPE=text/html:<span style="color: rgb(75\, 79\, 86)\; font-family: helvetica\, arial\, sans-serif\; font-size: 14px\; line-height: 18.76px\;">Learn how to download apps\, take photos\, share photos with family and friends\, add contacts\, text and more. This is a beginner level\, hands-on class.</span>
LOCATION:Fergus Falls Public Library 205 Hampden Ave\, Fergus Falls\, Minnesota 56537
UID:e.314.32914
SEQUENCE:3
DTSTAMP:20260425T105911Z
URL:https://business.fergusfalls.com/events/details/iphone-class-for-beginners-ffpl-07-18-2016-32914
END:VEVENT

END:VCALENDAR
