BEGIN:VCALENDAR
VERSION:2.0
PRODID:-//ChamberMaster//Event Calendar 2.0//EN
METHOD:PUBLISH
X-PUBLISHED-TTL:P3D
REFRESH-INTERVAL:P3D
CALSCALE:GREGORIAN
BEGIN:VEVENT
DTSTART;VALUE=DATE:20170317
DTEND;VALUE=DATE:20170318
TRANSP:TRANSPARENT
X-MICROSOFT-CDO-ALLDAYEVENT:TRUE
SUMMARY:"Irish On" at Mabel Murphy's
DESCRIPTION:Get your "Irish On" at Mabel Murphy's!\n\nFergus Falls' original Irish Pub!
X-ALT-DESC;FMTTYPE=text/html:<span aria-live="polite" class="fbPhotosPhotoCaption" data-ft="{&quot\;tn&quot\;:&quot\;K&quot\;}" id="fbPhotoSnowliftCaption" tabindex="0"><span class="hasCaption">Get your &quot\;Irish On&quot\; at Mabel Murphy&#39\;s!<br />\nFergus Falls&#39\; original Irish Pub!</span></span>
LOCATION:Mabel Murphy's 3401 Highway 210 West Fergus Falls\, Minnesota 56537
UID:e.314.38915
SEQUENCE:3
DTSTAMP:20260424T205942Z
URL:https://business.fergusfalls.com/events/details/irish-on-at-mabel-murphy-s-38915
END:VEVENT

END:VCALENDAR
