BEGIN:VCALENDAR
VERSION:2.0
PRODID:-//ChamberMaster//Event Calendar 2.0//EN
METHOD:PUBLISH
X-PUBLISHED-TTL:P3D
REFRESH-INTERVAL:P3D
CALSCALE:GREGORIAN
BEGIN:VEVENT
DTSTART:20191125T010000Z
DTEND:20191125T020000Z
X-MICROSOFT-CDO-ALLDAYEVENT:FALSE
SUMMARY:JAIL Inc. Community Thanksgiving Service
DESCRIPTION:Community service - Fundraiser for the ministry of the Jail Chaplain.\n\nCome hear great music\, a testimony from a former inmate\, and messages from Chaplain Pete Konrad and Probation Agent Nicole Woodman.
X-ALT-DESC;FMTTYPE=text/html:<p><span style="color:rgb(29\, 33\, 41)\; font-family:helvetica\,arial\,sans-serif\; font-size:14px">Community service - Fundraiser for the ministry of the Jail Chaplain.</span><br />\n<span style="color:rgb(29\, 33\, 41)\; font-family:helvetica\,arial\,sans-serif\; font-size:14px">Come hear great music\, a testimony from a former inmate\, and messages from Chaplain Pete Konrad and Probation Agent Nicole Woodman. </span></p>\n\n<p>&nbsp\;</p>\n
LOCATION:The Federated Church 224 North Union Ave. Fergus Falls\, MN 56537
UID:e.314.55819
SEQUENCE:3
DTSTAMP:20260422T201659Z
URL:https://business.fergusfalls.com/events/details/jail-inc-community-thanksgiving-service-55819
END:VEVENT

END:VCALENDAR
