BEGIN:VCALENDAR
VERSION:2.0
PRODID:-//ChamberMaster//Event Calendar 2.0//EN
METHOD:PUBLISH
X-PUBLISHED-TTL:P3D
REFRESH-INTERVAL:P3D
CALSCALE:GREGORIAN
BEGIN:VEVENT
DTSTART;VALUE=DATE:20170102
DTEND;VALUE=DATE:20170201
TRANSP:TRANSPARENT
X-MICROSOFT-CDO-ALLDAYEVENT:TRUE
SUMMARY:January DETOX challenge
DESCRIPTION:Hosted by Namaste Hot\n\nEVERYDAY JANUARY DETOX. \n\nFeeling the effects of over indulging this holiday season? Now is the PERFECT time to join our Namaste Hot family! Start 2017 off HEALTHY! Join Namaste Hot's January DETOX Challenge!!\n\n~January 2nd through January 31st~\n\n\n\nDETOX benefits include:\n\n-Energy boost\n\n-Rids body of any excess waste\n\n-Helps with weight loss\n\n-Stronger immune system\n\n-Clearer skin\n\n-Improved thinking \n\n-Healthier hair\n\n-Lighter feeling \n\n-Anti aging benefits \n\n-improved sense of wellbeing \n\n\n\nWhen you detox\, you feel good\, and when you feel good\, good things happen. Detoxing is often used strategically to lose weight or to start a new diet plan\, but really there's no better reason than just to feel better. When you set the stage for well being\, you are going to improve all areas of your life\, and you should see better relationships\, better productivity at work\, and a new found zest for life! \n\n\n\n*More info to follow*
X-ALT-DESC;FMTTYPE=text/html:<span style="color: rgb(144\, 148\, 156)\; font-family: &quot\;Helvetica Neue&quot\;\, Helvetica\, Arial\, sans-serif\; font-size: 12px\; white-space: nowrap\; background-color: rgb(255\, 255\, 255)\;">Hosted by&nbsp\;</span><a data-hovercard="/ajax/hovercard/page.php?id=873602832755179" data-hovercard-position="below" href="https://www.facebook.com/vinyasaheat.fergusfalls/" style="color: rgb(54\, 88\, 153)\; cursor: pointer\; text-decoration: none\; font-family: &quot\;Helvetica Neue&quot\;\, Helvetica\, Arial\, sans-serif\; font-size: 12px\; white-space: nowrap\; background-color: rgb(255\, 255\, 255)\;">Namaste Hot</a><br />\nEVERYDAY JANUARY DETOX.&nbsp\;<br />\nFeeling the effects of over indulging this holiday season? Now is the PERFECT time to join our Namaste Hot family! Start 2017 off HEALTHY! Join Namaste Hot&#39\;s January DETOX Challenge!!<br />\n~January 2nd through January 31st~<br />\n<br />\nDETOX benefits include:<br />\n-Energy boost<br />\n-Rids body of any excess waste<br />\n-Helps with weight loss<br />\n-Stronger immune system<br />\n-Clearer skin<br />\n-Improved thinking&nbsp\;<br />\n-Healthier hair<br />\n-Lighter feeling&nbsp\;<br />\n-Anti aging benefits&nbsp\;<br />\n-improved sense of wellbeing&nbsp\;<br />\n<br />\nWhen you detox\, you feel good\, and when you feel good\, good things happen. Detoxing is often used strategically to lose weight or to start a new diet plan\, but really there&#39\;s no better reason than just to feel better. When you set the stage for well being\, you are going to improve all areas of your life\, and you should see better relationships\, better productivity at work\, and a new found zest for life!&nbsp\;<br />\n<br />\n*More info to follow*
LOCATION:Namaste Hot Yoga 102 W Lincoln Ave Fergus Falls
UID:e.314.37242
SEQUENCE:3
DTSTAMP:20260425T002727Z
URL:https://business.fergusfalls.com/events/details/january-detox-challenge-37242
END:VEVENT

END:VCALENDAR
