BEGIN:VCALENDAR
VERSION:2.0
PRODID:-//ChamberMaster//Event Calendar 2.0//EN
METHOD:PUBLISH
X-PUBLISHED-TTL:P3D
REFRESH-INTERVAL:P3D
CALSCALE:GREGORIAN
BEGIN:VEVENT
DTSTART:20151121T013000Z
DTEND:20151121T033000Z
X-MICROSOFT-CDO-ALLDAYEVENT:FALSE
SUMMARY:Jazz Band Concert
DESCRIPTION:Jazz Band Concert
X-ALT-DESC;FMTTYPE=text/html:<strong>Jazz Band Concert </strong><br />\n<br />\n&nbsp\;
LOCATION:Minnesota State Community & Technical College Waage Theatre 1414 College Way Fergus Falls\, MN 56537 USA
UID:e.314.26906
SEQUENCE:3
DTSTAMP:20260426T025406Z
URL:https://business.fergusfalls.com/events/details/jazz-band-concert-11-20-2015-26906
END:VEVENT

END:VCALENDAR
