BEGIN:VCALENDAR
VERSION:2.0
PRODID:-//ChamberMaster//Event Calendar 2.0//EN
METHOD:PUBLISH
X-PUBLISHED-TTL:P3D
REFRESH-INTERVAL:P3D
CALSCALE:GREGORIAN
BEGIN:VEVENT
DTSTART:20190406T000000Z
DTEND:20190406T020000Z
X-MICROSOFT-CDO-ALLDAYEVENT:FALSE
SUMMARY:Jazz Band Dance @ MSTATE - FF
DESCRIPTION:Minnesota State Community and Technical College in Fergus Falls would like to extend a personal invitation for you to get into the swing with music and dancing at Minnesota State Community and Technical College's Jazz Ensemble Dance at 7 p.m. Friday\, April 5\, in Legacy Hall on the Fergus Falls campus.\n\n \n\nThe evening features swing music performed by the M State Jazz Ensemble\, with guest appearances by M State sophomore vocalist Taylor Larson of Fergus Falls and members of the Fergus Falls vocal jazz ensemble Front and Center Singers. The evening will include an array of social dance favorites including foxtrots\, polkas\, swing and schottische numbers\, all under the direction of Scott Kummrow. Dessert and coffee are included in the ticket price. \n\n \n\nDancers can warm up for the evening with free social dance lessons at 11 a.m. Tuesday\, April 2\, in the music rehearsal room at M State. \n\n \n\nTickets for adults are $12 in advance and $15 at the door\, and student tickets are $7 in advance and $8 at the door. Tickets are available at the M State Box Office by calling 218.736.1600\, online at mstatetickets.com  or at the door.
X-ALT-DESC;FMTTYPE=text/html:<span style="font-size: medium\;"><span style="font-family: calibri\;">Minnesota State Community and Technical College in Fergus Falls would like to extend a personal invitation for you to get into the swing with music and dancing at Minnesota State Community and Technical College&rsquo\;s Jazz Ensemble Dance at 7 p.m. Friday\, April 5\, in Legacy Hall on the Fergus Falls campus.</span></span><br />\n&nbsp\;<br />\n<span style="font-size: medium\;"><span style="font-family: calibri\;">The evening features swing music performed by the M State Jazz Ensemble\, with guest appearances by M State sophomore vocalist Taylor Larson of Fergus Falls and members of the Fergus Falls vocal jazz ensemble Front and Center Singers. The evening will include an array of social dance favorites including foxtrots\, polkas\, swing and schottische numbers\, all under the direction of Scott Kummrow. Dessert and coffee are included in the ticket price. </span></span><br />\n&nbsp\;<br />\n<span style="font-size: medium\;"><span style="font-family: calibri\;">Dancers can warm up for the evening with free social dance lessons at 11 a.m. Tuesday\, April 2\, in the music rehearsal room at M State. </span></span><br />\n&nbsp\;<br />\n<span style="font-size: medium\;"><span style="font-family: calibri\;">Tickets for adults are $12 in advance and $15 at the door\, and student tickets are $7 in advance and $8 at the door. Tickets are available at the M State Box Office by calling 218.736.1600\, online at mstatetickets.com &nbsp\;or at the door.</span></span><br />\n&nbsp\;
LOCATION:
UID:e.314.52821
SEQUENCE:3
DTSTAMP:20260423T062849Z
URL:https://business.fergusfalls.com/events/details/jazz-band-dance-mstate-ff-52821
END:VEVENT

END:VCALENDAR
