BEGIN:VCALENDAR
VERSION:2.0
PRODID:-//ChamberMaster//Event Calendar 2.0//EN
METHOD:PUBLISH
X-PUBLISHED-TTL:P3D
REFRESH-INTERVAL:P3D
CALSCALE:GREGORIAN
BEGIN:VEVENT
DTSTART:20160221T000000Z
DTEND:20160221T040000Z
X-MICROSOFT-CDO-ALLDAYEVENT:FALSE
SUMMARY:Jazz Band Dinner and Dance
DESCRIPTION:Jazz lovers\, take note! Come and enjoy some of the area's best at the Jazz Band Dinner & Dance at the Fergus Falls VFW on Saturday\, Feb. 20.\n\n\n\nThe social and dinner hour start at 6 p.m. with the musical accompaniment of the Lakes Area All Stars\, featuring local band directors and musicians.\n\n\n\nThe dance is from 7 to 10 p.m.\, with music provided by the M State Jazz Band and the M State Jazz Combo under the direction of Dan Carlson\, and Lakes Area All Stars\, directed by Jim Iverson.\n\n\n\nCome to dance\, or come to listen. The evening will feature instrumental soloists and M State student guest vocalists Ashley Forsman of Murdock and Jacob Seeman of St. Cloud. There will be a variety of styles of music including swing\, ballad\, waltz\, polka and upbeat rock and roll.\n\n\n\nTickets for the dinner and dance are $20\, and dance-only tickets are $8. The menu features a choice of roast beef or chicken breast and accompaniments.\n\n\n\nDinner tickets must be purchased by Wednesday\, Feb. 10. Dance-only tickets can be purchased in advance or at the door. Get your ticket by calling M State at 218.736.1600 or visiting the box office on the M State campus. Box office hours are 9 a.m. to 4 p.m. Monday through Friday.\n\n\n\nThe Fergus Falls VFW is located at 420 E. Washington Ave.
X-ALT-DESC;FMTTYPE=text/html:Jazz lovers\, take note! Come and enjoy some of the area&rsquo\;s best at the Jazz Band Dinner &amp\; Dance at the Fergus Falls VFW on Saturday\, Feb. 20.<br />\n<br />\nThe social and dinner hour start at 6 p.m. with the musical accompaniment of the Lakes Area All Stars\, featuring local band directors and musicians.<br />\n<br />\nThe dance is from 7 to 10 p.m.\, with music provided by the M State Jazz Band and the M State Jazz Combo under the direction of Dan Carlson\, and Lakes Area All Stars\, directed by Jim Iverson.<br />\n<br />\nCome to dance\, or come to listen. The evening will feature instrumental soloists and M State student guest vocalists Ashley Forsman of Murdock and Jacob Seeman of St. Cloud. There will be a variety of styles of music including swing\, ballad\, waltz\, polka and upbeat rock and roll.<br />\n<br />\nTickets for the dinner and dance are $20\, and dance-only tickets are $8. The menu features a choice of roast beef or chicken breast and accompaniments.<br />\n<br />\nDinner tickets must be purchased by Wednesday\, Feb. 10. Dance-only tickets can be purchased in advance or at the door. Get your ticket by calling M State at 218.736.1600 or visiting the box office on the M State campus. Box office hours are 9 a.m. to 4 p.m. Monday through Friday.<br />\n<br />\nThe Fergus Falls VFW is located at 420 E. Washington Ave.
LOCATION:VFW
UID:e.314.30706
SEQUENCE:3
DTSTAMP:20260425T200742Z
URL:https://business.fergusfalls.com/events/details/jazz-band-dinner-and-dance-02-20-2016-30706
END:VEVENT

END:VCALENDAR
