BEGIN:VCALENDAR
VERSION:2.0
PRODID:-//ChamberMaster//Event Calendar 2.0//EN
METHOD:PUBLISH
X-PUBLISHED-TTL:P3D
REFRESH-INTERVAL:P3D
CALSCALE:GREGORIAN
BEGIN:VEVENT
DTSTART:20190412T230000Z
DTEND:20190413T030000Z
X-MICROSOFT-CDO-ALLDAYEVENT:FALSE
SUMMARY:Jazz & Cocktail Fundraiser Evening
DESCRIPTION:Jazz & Cocktail Fundraiser Evening\n\nDate: Friday\, April 12th 2019\n\nTime: 6-10pm\n\nRegistration: $70 per ticket/$500 per table of 8...\n\nPurchase tickets at lrhc.org/swingbaby\n\n\nFeaturing food & beverages by Zen's Catering & Dining Car #423. Entertainment by Blue Note Combo\, dancing and a fundraising auction. This will be an elegant\, black tie optional event. Proceeds support the mom's and babies of Lake Region Healthcare's Women's and Children's Health Center.
X-ALT-DESC;FMTTYPE=text/html:<div class="text_exposed_root text_exposed" id="id_5c7ff0374f7076e68280843">\n<p><br />\nJazz &amp\; Cocktail Fundraiser Evening</p>\n\n<p>Date: Friday\, April 12th 2019<br />\nTime: 6-10pm<br />\nRegistration: $70 per ticket/$500 per table of 8<span class="text_exposed_hide">...</span><br />\n<span class="text_exposed_show">Purchase tickets at <a data-ft="{&quot\;tn&quot\;:&quot\;-U&quot\;}" data-lynx-mode="hover" data-lynx-uri="https://l.facebook.com/l.php?u=http%3A%2F%2Flrhc.org%2Fswingbaby%3Ffbclid%3DIwAR2hZRyYXlsd-xUifn9LkIj8QY-yHyO3YYquGFfu0Jy48SiAeoJhrwNAw4I&amp\;h=AT1sqtNk3nr7yFSirGsyhcP0Pys90rnxFf5djgag-UOqbW_Dc_Xpn_8qs-9BXhBKJ8mQvoD58Xkta_Byk7EPYfNrevTHHaf1zqfSJBhY0MX2tDbJ_sWlWV814WoB1vGwXbDAGVlsJuEtdZKTSOcb4Wg-wRR_9t6B6mrIEb9bYCiwZxauSN9R03TT21fi0UsDN3wjVAwBvfDsiunBaU1FXSrA9dTu3YtmiWOd6opD7_bWSbTec3K5W0Y5NuGq9edcU4bG88z3JnEgeoTHb2CXVIOb8-5i6R7ttWd5MIfhv-xRN07zDP4LvulQ0bbBr11cutWrZDnjuF_JLAFuEMq1pgTFVweK08UEEPs_dbQ_iE6IaEL_nSxcAMZFFeGDdsi6m9BJPKw1rA1ZV88GM0uorWWsRs3njAJsOF8VtXU6-OstXv0aFUQL1eqi-un1NusFleT27tWSvr6skb7ILhALa0qO5u69tnFfRGqgkSZgKjFmiwPkr1NckJyV5jbRZLQ6UDvkaYOIjrkFVTgAEH6CYn-pcjAXctfA4NqoCDPsPmzbOzKXem6Vkjyy8o3DPl69GuVeYp1xPIPaa62V_Zq_svB4Wa1kBqObNJqHC3PQ_jZ6BrysVKMU8LLTNetT7AZP1g_3FPnXKdhTpnAvHyBBqq_7ME0" href="http://lrhc.org/swingbaby?fbclid=IwAR2hZRyYXlsd-xUifn9LkIj8QY-yHyO3YYquGFfu0Jy48SiAeoJhrwNAw4I" rel="nofollow" target="_blank"><font color="#0066cc">lrhc.org/swingbaby</font></a></span></p>\n\n<div class="text_exposed_show">\n<p>Featuring food &amp\; beverages by Zen&#39\;s Catering &amp\; Dining Car #423. Entertainment by Blue Note Combo\, dancing and a fundraising auction. This will be an elegant\, black tie optional event. Proceeds support the mom&#39\;s and babies of Lake Region Healthcare&#39\;s Women&#39\;s and Children&#39\;s Health Center.</p>\n</div>\n</div>\n
LOCATION:M State - Fergus Falls Legacy Hall
UID:e.314.52646
SEQUENCE:3
DTSTAMP:20260423T062905Z
URL:https://business.fergusfalls.com/events/details/jazz-cocktail-fundraiser-evening-52646
END:VEVENT

END:VCALENDAR
