BEGIN:VCALENDAR
VERSION:2.0
PRODID:-//ChamberMaster//Event Calendar 2.0//EN
METHOD:PUBLISH
X-PUBLISHED-TTL:P3D
REFRESH-INTERVAL:P3D
CALSCALE:GREGORIAN
BEGIN:VEVENT
DTSTART:20190926T190000Z
DTEND:20190926T210000Z
X-MICROSOFT-CDO-ALLDAYEVENT:FALSE
SUMMARY:Job Fair - Walk In Interviews @ Northern Contours
DESCRIPTION:Are you looking for your next job opportunity? Come work for a leading international manufacturer in wood production. Our Fergus Falls facility is seeking both 1st and 2nd shift Machine Operators (Laminator\, Edgebander)\, CNC Router Operators and various entry level positions. Skilled positions require a minimum of one year relevant experience. Must pass drug screen & background check.\n\n \n\n409 Robert St\, Fergus Falls\, MN 56537-3137\, United States
X-ALT-DESC;FMTTYPE=text/html:<span>Are you looking for your next job opportunity? Come work for a leading international manufacturer in wood production. Our Fergus Falls facility is seeking both 1st and 2nd shift Machine Operators (Laminator\, Edgebander)\, CNC Router Operators and various entry level positions. Skilled positions require a minimum of one year relevant experience. Must pass drug screen &amp\; background check.</span><br />\n&nbsp\;\n<div class="_3-8y">\n<div class="fsm fwn fcg"><span class="_2ieq _2iex">409 Robert St\, Fergus Falls\, MN 56537-3137\, United States</span></div>\n</div>\n
LOCATION:409 Robert St\, Fergus Falls\, MN
UID:e.314.54737
SEQUENCE:3
DTSTAMP:20260422T222810Z
URL:https://business.fergusfalls.com/events/details/job-fair-walk-in-interviews-northern-contours-54737
END:VEVENT

END:VCALENDAR
