BEGIN:VCALENDAR
VERSION:2.0
PRODID:-//ChamberMaster//Event Calendar 2.0//EN
METHOD:PUBLISH
X-PUBLISHED-TTL:P3D
REFRESH-INTERVAL:P3D
CALSCALE:GREGORIAN
BEGIN:VEVENT
DTSTART:20160402T013000Z
DTEND:20160402T045500Z
X-MICROSOFT-CDO-ALLDAYEVENT:FALSE
SUMMARY:Johhny Holm at The Bigwood Event Center
DESCRIPTION:The Johnny Holm Band will be playing live at The Bigwood Event Center in Fergus Falls\, MN on April 1st at 8:30. The doors will open at 7:30 that night. We will be selling tickets in advance. Call 218-739-2211 to order over the phone or stop in to The Bigwood Event Center today!
X-ALT-DESC;FMTTYPE=text/html:<span class="fsl">The Johnny Holm Band will be playing live at The Bigwood Event Center in Fergus Falls\, MN on April 1st at 8:30. The doors will open at 7:30 that night. We will be selling tickets in advance. Call 218-739-2211 to order over the phone or stop in to The Bigwood Event Center today!</span>
LOCATION:Z103 Bar & Grill 902 Frontier Dr\, Fergus Falls\, Minnesota 56537
UID:e.314.31317
SEQUENCE:3
DTSTAMP:20260425T164710Z
URL:https://business.fergusfalls.com/events/details/johhny-holm-at-the-bigwood-event-center-04-01-2016-31317
END:VEVENT

END:VCALENDAR
